BEGIN:VCALENDAR
VERSION:2.0
PRODID:-//Homeschooling - ECPv6.2.3//NONSGML v1.0//EN
CALSCALE:GREGORIAN
METHOD:PUBLISH
X-WR-CALNAME:Homeschooling
X-ORIGINAL-URL:https://learningandfamilies.org
X-WR-CALDESC:Events for Homeschooling
REFRESH-INTERVAL;VALUE=DURATION:PT1H
X-Robots-Tag:noindex
X-PUBLISHED-TTL:PT1H
BEGIN:VTIMEZONE
TZID:UTC
BEGIN:STANDARD
TZOFFSETFROM:+0000
TZOFFSETTO:+0000
TZNAME:UTC
DTSTART:20220101T000000
END:STANDARD
END:VTIMEZONE
BEGIN:VEVENT
DTSTART;TZID=UTC:20221103T183000
DTEND;TZID=UTC:20221103T210000
DTSTAMP:20260425T152345
CREATED:20220723T224753Z
LAST-MODIFIED:20221011T145713Z
UID:6688-1667500200-1667509200@learningandfamilies.org
SUMMARY:Fall Meet and Greet
DESCRIPTION:Every year\, we welcome new families to LAF. Our Fall Meet and Greet is an opportunity for all new families\, plus any families currently enrolled in LAF\, to come meet the LAF leadership team and get to know many of the wonderful moms and dads who make LAF a strong community. \nFor the 2022/23 school year\, we will meet at the Rusty Bucket for some fun\, food\, and fellowship. Hear from the LAF Board of Directors and find out how each one of us is here to serve the families of LAF. Enjoy great conversation with many of the families enrolled in our community\, and start the year off making new friends.
URL:https://learningandfamilies.org/event/fall-meet-and-greet/
LOCATION:Rusty Bucket\, 257 N Cattlemen Rd #81\, Sarasota\, FL\, 34243\, United States
CATEGORIES:Special Events
END:VEVENT
BEGIN:VEVENT
DTSTART;TZID=UTC:20221129T090000
DTEND;TZID=UTC:20221129T130000
DTSTAMP:20260425T152345
CREATED:20220723T232623Z
LAST-MODIFIED:20221011T145626Z
UID:6692-1669712400-1669726800@learningandfamilies.org
SUMMARY:Picture Day
DESCRIPTION:Every fall\, LAF offers all families enrolled in the Support Community an opportunity to have professional school pictures taken. There is no sitting fee\, and you are not obligated to purchase a picture package. \nJust for participating in school picture day\, you will receive picture proofs. and a spot in our Yearbook. Please note that we are no longer offering picture ID cards.
URL:https://learningandfamilies.org/event/picture-day/
LOCATION:Renewal Church\, 7221 Bee Ridge Road\, Sarasota\, 34241\, United States
CATEGORIES:Special Events
ATTACH;FMTTYPE=image/png:https://learningandfamilies.org/wp-content/uploads/2021/03/schoolpicturesfeatured.png
END:VEVENT
BEGIN:VEVENT
DTSTART;TZID=UTC:20260122T091500
DTEND;TZID=UTC:20260122T111500
DTSTAMP:20260425T152345
CREATED:20251204T164949Z
LAST-MODIFIED:20251204T164949Z
UID:15709-1769073300-1769080500@learningandfamilies.org
SUMMARY:Yearbook Picture Retakes
DESCRIPTION: Picture Retakes\, Don’t Miss Out!Did you miss the two picture days this fall? No worries — Picture Retake Day is here!\n Thursday\, January 22nd 9:15–11:15 AM In the Gym at Co-op\nOur photography teacher\, Mr. Charles\, and his High School Photography class will be taking photos to be used in this year’s Yearbook. This is your chance to make sure you are included!Come by\, smile big\, and we’ll see you there! We want your picture in the Yearbook! 
URL:https://learningandfamilies.org/event/yearbook-picture-retakes/
LOCATION:Bethel Church\, 1805 30th Ave W\,\, FL\, Bradenton\, FL\, 34205\, United States
CATEGORIES:Co-op,Junior Co-op,Middle and High School Co-op
END:VEVENT
END:VCALENDAR