BEGIN:VCALENDAR
VERSION:2.0
PRODID:-//Homeschooling - ECPv6.2.3//NONSGML v1.0//EN
CALSCALE:GREGORIAN
METHOD:PUBLISH
X-ORIGINAL-URL:https://learningandfamilies.org
X-WR-CALDESC:Events for Homeschooling
REFRESH-INTERVAL;VALUE=DURATION:PT1H
X-Robots-Tag:noindex
X-PUBLISHED-TTL:PT1H
BEGIN:VTIMEZONE
TZID:UTC
BEGIN:STANDARD
TZOFFSETFROM:+0000
TZOFFSETTO:+0000
TZNAME:UTC
DTSTART:20250101T000000
END:STANDARD
END:VTIMEZONE
BEGIN:VEVENT
DTSTART;TZID=UTC:20251009T090000
DTEND;TZID=UTC:20251009T130000
DTSTAMP:20260420T212631
CREATED:20250814T144708Z
LAST-MODIFIED:20250814T144708Z
UID:15424-1760000400-1760014800@learningandfamilies.org
SUMMARY:School Picture Day
DESCRIPTION:Make sure to look your best\, it’s picture day! Pictures will be taken from 9 AM-1 PM in the Gym\, come ready with a smile
URL:https://learningandfamilies.org/event/school-picture-day-3/
LOCATION:Bethel Church\, 1805 30th Ave W\,\, FL\, Bradenton\, FL\, 34205\, United States
CATEGORIES:Co-op,Junior Co-op,Middle and High School Co-op
END:VEVENT
END:VCALENDAR