BEGIN:VCALENDAR
VERSION:2.0
PRODID:-//Homeschooling - ECPv6.2.3//NONSGML v1.0//EN
CALSCALE:GREGORIAN
METHOD:PUBLISH
X-ORIGINAL-URL:https://learningandfamilies.org
X-WR-CALDESC:Events for Homeschooling
REFRESH-INTERVAL;VALUE=DURATION:PT1H
X-Robots-Tag:noindex
X-PUBLISHED-TTL:PT1H
BEGIN:VTIMEZONE
TZID:UTC
BEGIN:STANDARD
TZOFFSETFROM:+0000
TZOFFSETTO:+0000
TZNAME:UTC
DTSTART:20240101T000000
END:STANDARD
END:VTIMEZONE
BEGIN:VEVENT
DTSTART;TZID=UTC:20240229T173000
DTEND;TZID=UTC:20240229T190000
DTSTAMP:20260422T055404
CREATED:20231206T080517Z
LAST-MODIFIED:20231207T185347Z
UID:10276-1709227800-1709233200@learningandfamilies.org
SUMMARY:Science Fair
DESCRIPTION:We are excited to announce that LAF will be hosting their annual Science Fair Showcase on Thursday\, February 29th. It’s the perfect way to celebrate Leap Day 2024! \nWe will be using the Scientific Method and the information must be presented on a tri-fold board that the student will create.\nAll entries will be judged by our very own LAF Science Teachers using a Scientific Method Rubric. The actual Rubric and all rules will be posted in the event.\nFor the Science Fair there will be a variety of prizes for the 1st\, 2nd and 3rd place winners in the different grade levels. Each student will receive a Certificate of Participation and a Chick Fil A gift card.
URL:https://learningandfamilies.org/event/science-fair/
LOCATION:Selby Library\, 1331 1st St.\, Sarasota\, FL\, 34236\, United States
CATEGORIES:Co-op
END:VEVENT
END:VCALENDAR