BEGIN:VCALENDAR
VERSION:2.0
PRODID:-//Homeschooling - ECPv6.2.3//NONSGML v1.0//EN
CALSCALE:GREGORIAN
METHOD:PUBLISH
X-WR-CALNAME:Homeschooling
X-ORIGINAL-URL:https://learningandfamilies.org
X-WR-CALDESC:Events for Homeschooling
REFRESH-INTERVAL;VALUE=DURATION:PT1H
X-Robots-Tag:noindex
X-PUBLISHED-TTL:PT1H
BEGIN:VTIMEZONE
TZID:UTC
BEGIN:STANDARD
TZOFFSETFROM:+0000
TZOFFSETTO:+0000
TZNAME:UTC
DTSTART:20260101T000000
END:STANDARD
END:VTIMEZONE
BEGIN:VEVENT
DTSTART;VALUE=DATE:20260507
DTEND;VALUE=DATE:20260508
DTSTAMP:20260420T020129
CREATED:20251007T172648Z
LAST-MODIFIED:20251007T173015Z
UID:15611-1778112000-1778198399@learningandfamilies.org
SUMMARY:Last Day of Co-Op
DESCRIPTION:🌟 End of the Co-Op Year Message 🌟 \nAs we wrap up another wonderful year\, we would like to take a moment to celebrate each of you — our amazing students and their families! From our youngest learners in Pre-K to our graduating high school seniors\, we hope this year was filled with growth\, laughter\, and special memories that will last a lifetime. \nMay your summer be full of joy\, rest\, and new adventures. We can’t wait to see all that God has in store for you in the year ahead! \n“For I know the plans I have for you\,” declares the Lord\, “plans to prosper you and not to harm you\, plans to give you hope and a future.” — Jeremiah 29:11 \nWishing you a blessed summer and a bright new beginning ahead! ☀️❤️
URL:https://learningandfamilies.org/event/last-day-of-school/
CATEGORIES:Co-op
ATTACH;FMTTYPE=image/jpeg:https://learningandfamilies.org/wp-content/uploads/2025/10/9b690695-18e0-41f9-a450-71366dc70453.jpg
END:VEVENT
END:VCALENDAR