BEGIN:VCALENDAR
VERSION:2.0
PRODID:-//Homeschooling - ECPv6.2.3//NONSGML v1.0//EN
CALSCALE:GREGORIAN
METHOD:PUBLISH
X-ORIGINAL-URL:https://learningandfamilies.org
X-WR-CALDESC:Events for Homeschooling
REFRESH-INTERVAL;VALUE=DURATION:PT1H
X-Robots-Tag:noindex
X-PUBLISHED-TTL:PT1H
BEGIN:VTIMEZONE
TZID:UTC
BEGIN:STANDARD
TZOFFSETFROM:+0000
TZOFFSETTO:+0000
TZNAME:UTC
DTSTART:20230101T000000
END:STANDARD
END:VTIMEZONE
BEGIN:VEVENT
DTSTART;TZID=UTC:20231009T173000
DTEND;TZID=UTC:20231009T193000
DTSTAMP:20260426T005124
CREATED:20230908T011240Z
LAST-MODIFIED:20230908T011240Z
UID:9574-1696872600-1696879800@learningandfamilies.org
SUMMARY:Middle School Painting with a Twist
DESCRIPTION:Let your kiddos express their creativity while making new friends and having fun with old ones. Who doesn’t love their kids’ art work? It’s time to upgrade those paintings on your refrigerator with a nice wall canvas created by your child under the guidance of a professional artist that you can love and display for years to come.
URL:https://learningandfamilies.org/event/middle-school-painting-with-a-twist/
LOCATION:Painting with a Twist\, 5543 Palmer Crossing Circle\, Sarasota\, FL\, 34233\, United States
ATTACH;FMTTYPE=image/jpeg:https://learningandfamilies.org/wp-content/uploads/2023/09/mspaintingwithatwist.jpg
END:VEVENT
END:VCALENDAR