BEGIN:VCALENDAR
VERSION:2.0
PRODID:-//Homeschooling - ECPv6.2.3//NONSGML v1.0//EN
CALSCALE:GREGORIAN
METHOD:PUBLISH
X-WR-CALNAME:Homeschooling
X-ORIGINAL-URL:https://learningandfamilies.org
X-WR-CALDESC:Events for Homeschooling
REFRESH-INTERVAL;VALUE=DURATION:PT1H
X-Robots-Tag:noindex
X-PUBLISHED-TTL:PT1H
BEGIN:VTIMEZONE
TZID:UTC
BEGIN:STANDARD
TZOFFSETFROM:+0000
TZOFFSETTO:+0000
TZNAME:UTC
DTSTART:20230101T000000
END:STANDARD
END:VTIMEZONE
BEGIN:VEVENT
DTSTART;TZID=UTC:20230121T130000
DTEND;TZID=UTC:20230121T160000
DTSTAMP:20260423T070542
CREATED:20230103T211159Z
LAST-MODIFIED:20230103T221130Z
UID:7860-1674306000-1674316800@learningandfamilies.org
SUMMARY:Mom's Night Out - Print Making and Stamp Carving
DESCRIPTION:This is the 2nd date for this class. It is capped at 18 so if you missed the class in the fall sign up now to hold your spot! \nJoin us for a fun night of crafting with our very own LAF Art teacher Alaina Pompa! Alaina will teach us how to carve Rubber stamps to be used for printmaking. \nThe cost includes all supplies to create a 4X5 Stamp and about 10 printed cards. Everything will be provided. The cutting knives\, paper\, ink\, rollers and a pattern to work from for the stamp. \nMiddle and High School girls are welcome to participate. \nNo experience is necessary for this project.  \nLet us know you’re coming by visiting the event page on Facebook.
URL:https://learningandfamilies.org/event/moms-night-out-print-making-and-stamp-carving/
LOCATION:Pompa Home (see FB for details)
END:VEVENT
BEGIN:VEVENT
DTSTART;TZID=UTC:20230928T180000
DTEND;TZID=UTC:20230928T200000
DTSTAMP:20260423T070542
CREATED:20230816T022636Z
LAST-MODIFIED:20230816T022636Z
UID:9418-1695924000-1695931200@learningandfamilies.org
SUMMARY:Moms' Night Out at ATRIA Cafe
DESCRIPTION:We are excited to be hosting our Moms’ Night Out Kick Off at ATRIA Café in LWR.\n\nThis amazing place is owned by one of our LAF facilitators’ family. We will have several tables reserved so we can all talk and get to know each other. This is a great way to connect with other moms at LAF and get to know the board and leadership team! This is a busy time of year so feel free to just drop in and say hi\, or stay the entire time. We want to meet you and make sure everyone gets connected this year!
URL:https://learningandfamilies.org/event/moms-night-out-at-atria-cafe/
LOCATION:ATRIA Cafe\, 4120 Lakewood Ranch Blvd.\, Lakewood Ranch\, FL\, 34211\, United States
END:VEVENT
BEGIN:VEVENT
DTSTART;TZID=UTC:20240222T190000
DTEND;TZID=UTC:20240222T220000
DTSTAMP:20260423T070542
CREATED:20240121T191521Z
LAST-MODIFIED:20240121T191521Z
UID:10328-1708628400-1708639200@learningandfamilies.org
SUMMARY:Moms' Night Out Earring Making Class
DESCRIPTION:Learn how to make one-of-a-kind earrings from accessories designer Anna Crow of AnnaLiz Designs! This is going to be a fun night of fellowship as well as learning how to design and create custom wooden earrings. There are many style options to choose from\, as well as pricing options.
URL:https://learningandfamilies.org/event/moms-night-out-earring-making-class/
LOCATION:SR 70 and Lockwood\, SR 70 and Lockwood\, Sarasota\, FL\, United States
END:VEVENT
BEGIN:VEVENT
DTSTART;TZID=UTC:20251003T180000
DTEND;TZID=UTC:20251003T200000
DTSTAMP:20260423T070542
CREATED:20250916T155954Z
LAST-MODIFIED:20250916T155954Z
UID:15490-1759514400-1759521600@learningandfamilies.org
SUMMARY:October's Mom Night Out
DESCRIPTION:Come take a break and enjoy some delicious food and good conversations! Wheat + Water has delicious Italian dishes\, and there are plenty of non-pasta/pizza options as well. Please be sure to RSVP on the LAF Community Facebook page
URL:https://learningandfamilies.org/event/octobers-mom-night-out/
LOCATION:Wheat + Water\, 7303 52nd Pl E\, Bradenton\, FL\, 34203\, United States
END:VEVENT
BEGIN:VEVENT
DTSTART;TZID=UTC:20251114T180000
DTEND;TZID=UTC:20251114T200000
DTSTAMP:20260423T070542
CREATED:20250930T171000Z
LAST-MODIFIED:20250930T171000Z
UID:15551-1763143200-1763150400@learningandfamilies.org
SUMMARY:Mom's Night at Elixr Tea House
DESCRIPTION:🌸✨ Mom’s Night Out at Elixir Tea House! ✨🌸 \nTake a break\, sip something soothing\, and connect with other amazing moms in a cozy\, European-style tea lounge. 💕 \n🍵 Over 80 gourmet teas to explore🍰 Delicious handcrafted pastries & savory bites🥂 Relax in themed private rooms — perfect for laughter & conversation \n📍 Elixir Tea House1926 Hillview Street\, Sarasota\, FL🗓️ 11/14 ⏰ 6 PM \n💫 Come for the tea\, stay for the memories. Don’t miss this chance to relax and recharge! \n👉 RSVP soon
URL:https://learningandfamilies.org/event/moms-night-at-elixr-tea-house/
LOCATION:Elixr Tea House\, 1926 Hillview Street\,\, Sarasota\, FL\, 34239\, United States
CATEGORIES:Mom's Night Out
END:VEVENT
END:VCALENDAR