BEGIN:VCALENDAR
VERSION:2.0
PRODID:-//Homeschooling - ECPv6.2.3//NONSGML v1.0//EN
CALSCALE:GREGORIAN
METHOD:PUBLISH
X-ORIGINAL-URL:https://learningandfamilies.org
X-WR-CALDESC:Events for Homeschooling
REFRESH-INTERVAL;VALUE=DURATION:PT1H
X-Robots-Tag:noindex
X-PUBLISHED-TTL:PT1H
BEGIN:VTIMEZONE
TZID:UTC
BEGIN:STANDARD
TZOFFSETFROM:+0000
TZOFFSETTO:+0000
TZNAME:UTC
DTSTART:20250101T000000
END:STANDARD
END:VTIMEZONE
BEGIN:VEVENT
DTSTART;TZID=UTC:20251115T114500
DTEND;TZID=UTC:20251115T123000
DTSTAMP:20260420T133743
CREATED:20250821T190048Z
LAST-MODIFIED:20250821T191049Z
UID:15449-1763207100-1763209800@learningandfamilies.org
SUMMARY:Myakka Elephant Ranch Field Trip
DESCRIPTION:Come out for an unforgettable experience learning about our own local Elephant sanctuary! Kids and adults will get to learn all about elephants and what it takes to care for them. They will also get to touch and take pictures with the elephants! Follow this link and put code EDU10 for a discounted ticket. Be sure to pick November 15th at 11:45 am. Make sure to wear your field trip shirts so we can find each other easily on the day of the event. \nhttps://go.theflybook.com/book/867/ListView/0#/base/867/11c17f1e-5264-479b-8395-5e3dedae742b/config/13245/15812/activity
URL:https://learningandfamilies.org/event/myakka-elephant-ranch-field-trip/
LOCATION:Myakka Elephant Ranch\, 4450 Verna Bethany Rd\, Myakka City\, Florida\, 3425
CATEGORIES:Field Trip
END:VEVENT
END:VCALENDAR