BEGIN:VCALENDAR
VERSION:2.0
PRODID:-//Homeschooling - ECPv6.2.3//NONSGML v1.0//EN
CALSCALE:GREGORIAN
METHOD:PUBLISH
X-WR-CALNAME:Homeschooling
X-ORIGINAL-URL:https://learningandfamilies.org
X-WR-CALDESC:Events for Homeschooling
REFRESH-INTERVAL;VALUE=DURATION:PT1H
X-Robots-Tag:noindex
X-PUBLISHED-TTL:PT1H
BEGIN:VTIMEZONE
TZID:UTC
BEGIN:STANDARD
TZOFFSETFROM:+0000
TZOFFSETTO:+0000
TZNAME:UTC
DTSTART:20230101T000000
END:STANDARD
END:VTIMEZONE
BEGIN:VEVENT
DTSTART;TZID=UTC:20230422T190000
DTEND;TZID=UTC:20230422T230000
DTSTAMP:20260420T045937
CREATED:20220724T002727Z
LAST-MODIFIED:20220724T003259Z
UID:6743-1682190000-1682204400@learningandfamilies.org
SUMMARY:High School Prom
DESCRIPTION:Every spring\, Learning\, and Families offers a high school prom for any high-school-age homeschooler in the community and their guests (ages 14 – 20). The LAF prom is a big hit in the homeschool community and sells out quickly. \nCheck back for more details later in the year!
URL:https://learningandfamilies.org/event/high-school-prom/
LOCATION:Palm Aire Country Club\, 5601 Country Club Way\, Sarasota\, FL\, 34243\, United States
CATEGORIES:Special Events
ATTACH;FMTTYPE=image/png:https://learningandfamilies.org/wp-content/uploads/2021/03/promgallery4.png
END:VEVENT
END:VCALENDAR