BEGIN:VCALENDAR
VERSION:2.0
PRODID:-//Homeschooling - ECPv6.2.3//NONSGML v1.0//EN
CALSCALE:GREGORIAN
METHOD:PUBLISH
X-ORIGINAL-URL:https://learningandfamilies.org
X-WR-CALDESC:Events for Homeschooling
REFRESH-INTERVAL;VALUE=DURATION:PT1H
X-Robots-Tag:noindex
X-PUBLISHED-TTL:PT1H
BEGIN:VTIMEZONE
TZID:UTC
BEGIN:STANDARD
TZOFFSETFROM:+0000
TZOFFSETTO:+0000
TZNAME:UTC
DTSTART:20240101T000000
END:STANDARD
END:VTIMEZONE
BEGIN:VEVENT
DTSTART;TZID=UTC:20241205T133000
DTEND;TZID=UTC:20241205T143000
DTSTAMP:20260421T190407
CREATED:20240916T170351Z
LAST-MODIFIED:20240916T170848Z
UID:12265-1733405400-1733409000@learningandfamilies.org
SUMMARY:Florida Studio Theatre Playmakers Tour at LAF
DESCRIPTION:The SECOND performance in a THREE PLAY series! \nThis fun and interactive performance walks students through the process of writing a play. Students will see a handful of winning plays\, and then they will work together to write a play on the spot!
URL:https://learningandfamilies.org/event/florida-studio-theatre-playmakers-tour-at-laf/
LOCATION:Renewal Church\, 7221 Bee Ridge Road\, Sarasota\, 34241\, United States
CATEGORIES:Field Trip,Performances
END:VEVENT
END:VCALENDAR