BEGIN:VCALENDAR
VERSION:2.0
PRODID:-//Homeschooling - ECPv6.2.3//NONSGML v1.0//EN
CALSCALE:GREGORIAN
METHOD:PUBLISH
X-ORIGINAL-URL:https://learningandfamilies.org
X-WR-CALDESC:Events for Homeschooling
REFRESH-INTERVAL;VALUE=DURATION:PT1H
X-Robots-Tag:noindex
X-PUBLISHED-TTL:PT1H
BEGIN:VTIMEZONE
TZID:UTC
BEGIN:STANDARD
TZOFFSETFROM:+0000
TZOFFSETTO:+0000
TZNAME:UTC
DTSTART:20240101T000000
END:STANDARD
END:VTIMEZONE
BEGIN:VEVENT
DTSTART;TZID=UTC:20241107T180000
DTEND;TZID=UTC:20241107T210000
DTSTAMP:20260421T044912
CREATED:20241022T162523Z
LAST-MODIFIED:20241022T165235Z
UID:12411-1731002400-1731013200@learningandfamilies.org
SUMMARY:Moms Night Out at Bailey Stiegler's
DESCRIPTION:Join us for a fun night of fellowship at Bailey Stieglers house. Since the last 2 Moms’ Night Out nights had to be cancelled due to the weather\, we are long overdue to get together! Tell your LAF mom friends!Bring a board with a sweet or salty treat to share. We will have water\, tea and coffee\, but feel free to bring drinks to share.Cannot wait to see everyone!!
URL:https://learningandfamilies.org/event/moms-night-out-at-bailey-stieglers/
CATEGORIES:Small Groups
END:VEVENT
END:VCALENDAR