BEGIN:VCALENDAR
VERSION:2.0
PRODID:-//Homeschooling - ECPv6.2.3//NONSGML v1.0//EN
CALSCALE:GREGORIAN
METHOD:PUBLISH
X-ORIGINAL-URL:https://learningandfamilies.org
X-WR-CALDESC:Events for Homeschooling
REFRESH-INTERVAL;VALUE=DURATION:PT1H
X-Robots-Tag:noindex
X-PUBLISHED-TTL:PT1H
BEGIN:VTIMEZONE
TZID:UTC
BEGIN:STANDARD
TZOFFSETFROM:+0000
TZOFFSETTO:+0000
TZNAME:UTC
DTSTART:20250101T000000
END:STANDARD
END:VTIMEZONE
BEGIN:VEVENT
DTSTART;TZID=UTC:20250123T180000
DTEND;TZID=UTC:20250123T210000
DTSTAMP:20260422T231357
CREATED:20241119T183830Z
LAST-MODIFIED:20241122T014525Z
UID:12601-1737655200-1737666000@learningandfamilies.org
SUMMARY:Mom's Night Out- Inner Compass Brewing Company
DESCRIPTION:Date: Thursday\, January 23rd\, 2025Time: 6:00-9:00PMLocation: Inner Compass Brewing Company10316 Technology Terr. Bradenton\, FL 34211\n\nCome out for a mom’s night of Fellowship\, Karaoke or even some lawn games if you want. Food and drinks available to purchase.\nhttps://innercompassbrewingcompany.com/
URL:https://learningandfamilies.org/event/moms-night-out-inner-compass-brewing-company/
CATEGORIES:Special Events
END:VEVENT
END:VCALENDAR