BEGIN:VCALENDAR
VERSION:2.0
PRODID:-//Homeschooling - ECPv6.2.3//NONSGML v1.0//EN
CALSCALE:GREGORIAN
METHOD:PUBLISH
X-ORIGINAL-URL:https://learningandfamilies.org
X-WR-CALDESC:Events for Homeschooling
REFRESH-INTERVAL;VALUE=DURATION:PT1H
X-Robots-Tag:noindex
X-PUBLISHED-TTL:PT1H
BEGIN:VTIMEZONE
TZID:UTC
BEGIN:STANDARD
TZOFFSETFROM:+0000
TZOFFSETTO:+0000
TZNAME:UTC
DTSTART:20230101T000000
END:STANDARD
END:VTIMEZONE
BEGIN:VEVENT
DTSTART;TZID=UTC:20230429T130000
DTEND;TZID=UTC:20230429T150000
DTSTAMP:20260425T174856
CREATED:20230331T173728Z
LAST-MODIFIED:20230331T174054Z
UID:8124-1682773200-1682780400@learningandfamilies.org
SUMMARY:"Dear Edwina Junior" 1:00 PM Performance
DESCRIPTION:The LAF Theatre Troup is excited for this year’s Spring Musical production of Dear Edwina Junior. This year’s musical is the story of plucky advice-giver-extraordinaire\, Edwina Spoonapple\, as she directs the neighborhood kids in a series of buoyant production numbers for the latest edition of her weekly “Advice-a-Palooza.” Edwina and her friends share wisdom on everything from trying new foods to making new friends through clever\, catchy\, and poignant songs. \nTo purchase tickets\, visit the LAF Shop.
URL:https://learningandfamilies.org/event/dear-edwina-junior-100-pm-performance/
LOCATION:Rise Above Performing Arts Centre\, 3501 S Tamiami Trail Suite 1105\, Sarasota\, FL\, 34239\, United States
CATEGORIES:Performances
END:VEVENT
BEGIN:VEVENT
DTSTART;TZID=UTC:20230429T163000
DTEND;TZID=UTC:20230429T183000
DTSTAMP:20260425T174856
CREATED:20230331T174217Z
LAST-MODIFIED:20230331T174217Z
UID:8127-1682785800-1682793000@learningandfamilies.org
SUMMARY:"Dear Edwina Junior" 4:30 PM Performance
DESCRIPTION:The LAF Theatre Troup is excited for this year’s Spring Musical production of Dear Edwina Junior. This year’s musical is the story of plucky advice-giver-extraordinaire\, Edwina Spoonapple\, as she directs the neighborhood kids in a series of buoyant production numbers for the latest edition of her weekly “Advice-a-Palooza.” Edwina and her friends share wisdom on everything from trying new foods to making new friends through clever\, catchy\, and poignant songs. \nTo purchase tickets\, visit the LAF Shop.
URL:https://learningandfamilies.org/event/dear-edwina-junior-430-pm-performance/
LOCATION:Rise Above Performing Arts Centre\, 3501 S Tamiami Trail Suite 1105\, Sarasota\, FL\, 34239\, United States
CATEGORIES:Performances
END:VEVENT
END:VCALENDAR