BEGIN:VCALENDAR
VERSION:2.0
PRODID:-//Homeschooling - ECPv6.2.3//NONSGML v1.0//EN
CALSCALE:GREGORIAN
METHOD:PUBLISH
X-WR-CALNAME:Homeschooling
X-ORIGINAL-URL:https://learningandfamilies.org
X-WR-CALDESC:Events for Homeschooling
REFRESH-INTERVAL;VALUE=DURATION:PT1H
X-Robots-Tag:noindex
X-PUBLISHED-TTL:PT1H
BEGIN:VTIMEZONE
TZID:UTC
BEGIN:STANDARD
TZOFFSETFROM:+0000
TZOFFSETTO:+0000
TZNAME:UTC
DTSTART:20220101T000000
END:STANDARD
END:VTIMEZONE
BEGIN:VEVENT
DTSTART;TZID=UTC:20221216T130000
DTEND;TZID=UTC:20221216T150000
DTSTAMP:20260425T152352
CREATED:20221210T205608Z
LAST-MODIFIED:20221210T205645Z
UID:7802-1671195600-1671202800@learningandfamilies.org
SUMMARY:Cookie Cottage Field Trip
DESCRIPTION:Let’s get together and decorate some Christmas cookies! This is one of our favorite field trips of the year! Read details below. \n\n\n\nThe Cookie Cottage provides everything we need. Each child will get several cookies to decorate and an apron to decorate and wear as well. \nPlease wear your green LAF shirts to make it easier for us to keep track of our group (and so we can get a great photo of our outing!). \n\nDetails\nDate: Friday\, December 16\, 2022\nTime: 1:00  pm (We will start decorating promptly at 1\, so please arrive a few minutes early so that we can all get situated.)\nCost: $10 per cookie decorator (parents can decorate too but must sign up and pay as a decorator)\nLocation: The Cookie Cottage\,  335 Gillespie Ave\, Sarasota\, FL 34236\n\n\n\nClick here to register and pay for this trip.
URL:https://learningandfamilies.org/event/cookie-cottage-field-trip/
LOCATION:The Cookie Cottage\, 335 Gillespie Ave\, Sarasota\, FL\, 34236\, United States
CATEGORIES:Field Trip
ATTACH;FMTTYPE=image/jpeg:https://learningandfamilies.org/wp-content/uploads/2022/03/Pic3-2.jpeg
END:VEVENT
BEGIN:VEVENT
DTSTART;TZID=UTC:20231215T100000
DTEND;TZID=UTC:20231215T120000
DTSTAMP:20260425T152352
CREATED:20231108T021635Z
LAST-MODIFIED:20231108T021635Z
UID:10069-1702634400-1702641600@learningandfamilies.org
SUMMARY:Cookie Decorating at the Cookie Cottage
DESCRIPTION:When: Friday\, Dec. 15th at 10 am\nWhere: The Cookie Cottage; 335 Gillespie Ave.\, Sarasota\, FL 34236\nCost: $10 per child decorating\n\nLet’s get together and decorate some Christmas cookies! This is one of our favorite field trips of the year! The Cookie Cottage provides everything we need. Each child will get several cookies to decorate and take home.\n\nAll participants must wear a green LAF Field Trip shirt.\nThis is not a drop off event; a parent or guardian must be present the entire duration of the field trip.\nALL SALES ARE FINAL – There are NO REFUNDS unless a trip is canceled due to weather or not meeting the minimum number of participants.
URL:https://learningandfamilies.org/event/cookie-decorating-at-the-cookie-cottage/
LOCATION:The Cookie Cottage\, 335 Gillespie Ave\, Sarasota\, FL\, 34236\, United States
CATEGORIES:Field Trip
END:VEVENT
END:VCALENDAR