BEGIN:VCALENDAR
VERSION:2.0
PRODID:-//Homeschooling - ECPv6.2.3//NONSGML v1.0//EN
CALSCALE:GREGORIAN
METHOD:PUBLISH
X-WR-CALNAME:Homeschooling
X-ORIGINAL-URL:https://learningandfamilies.org
X-WR-CALDESC:Events for Homeschooling
REFRESH-INTERVAL;VALUE=DURATION:PT1H
X-Robots-Tag:noindex
X-PUBLISHED-TTL:PT1H
BEGIN:VTIMEZONE
TZID:UTC
BEGIN:STANDARD
TZOFFSETFROM:+0000
TZOFFSETTO:+0000
TZNAME:UTC
DTSTART:20220101T000000
END:STANDARD
END:VTIMEZONE
BEGIN:VEVENT
DTSTART;VALUE=DATE:20221122
DTEND;VALUE=DATE:20221123
DTSTAMP:20260421T062327
CREATED:20220724T021135Z
LAST-MODIFIED:20220724T021135Z
UID:6827-1669075200-1669161599@learningandfamilies.org
SUMMARY:Thanksgiving Break
DESCRIPTION:Co-op will be closed for Thanksgiving Break. We wish you a joyful celebration and a deep sense of gratitude. We are grateful for YOU!
URL:https://learningandfamilies.org/event/thanksgiving-break/
CATEGORIES:Co-op,Junior Co-op,Middle and High School Co-op
ATTACH;FMTTYPE=image/jpeg:https://learningandfamilies.org/wp-content/uploads/2022/07/AdobeStock_292907397-scaled.jpeg
END:VEVENT
BEGIN:VEVENT
DTSTART;VALUE=DATE:20221124
DTEND;VALUE=DATE:20221125
DTSTAMP:20260421T062327
CREATED:20220724T021238Z
LAST-MODIFIED:20220724T021238Z
UID:6830-1669248000-1669334399@learningandfamilies.org
SUMMARY:Thanksgiving Break
DESCRIPTION:Co-op will be closed for Thanksgiving Break. We wish you a joyful celebration and a deep sense of gratitude. We are grateful for YOU!
URL:https://learningandfamilies.org/event/thanksgiving-break-2/
CATEGORIES:Co-op,Junior Co-op,Middle and High School Co-op
ATTACH;FMTTYPE=image/jpeg:https://learningandfamilies.org/wp-content/uploads/2022/07/AdobeStock_292907397-scaled.jpeg
END:VEVENT
BEGIN:VEVENT
DTSTART;VALUE=DATE:20221220
DTEND;VALUE=DATE:20221221
DTSTAMP:20260421T062327
CREATED:20220724T022116Z
LAST-MODIFIED:20220724T024629Z
UID:6842-1671494400-1671580799@learningandfamilies.org
SUMMARY:Christmas Break
DESCRIPTION:Co-op is closed for Christmas Break. Enjoy the festivities and give thanks to the Lord for the gift of eternal life through His Son\, Jesus Christ. We will see you in the new year!
URL:https://learningandfamilies.org/event/christmas-break-6/2022-12-20/
CATEGORIES:Co-op,Junior Co-op,Middle and High School Co-op
ATTACH;FMTTYPE=image/jpeg:https://learningandfamilies.org/wp-content/uploads/2022/07/AdobeStock_292907397-scaled.jpeg
END:VEVENT
BEGIN:VEVENT
DTSTART;VALUE=DATE:20230314
DTEND;VALUE=DATE:20230315
DTSTAMP:20260421T062327
CREATED:20220724T022256Z
LAST-MODIFIED:20220724T022256Z
UID:6844-1678752000-1678838399@learningandfamilies.org
SUMMARY:Spring Break
DESCRIPTION:LAF Co-op is closed for Spring Break. Enjoy this time of rest and be rejuvenated. We will see you next week!
URL:https://learningandfamilies.org/event/spring-break/
CATEGORIES:Co-op,Junior Co-op,Middle and High School Co-op
ATTACH;FMTTYPE=image/jpeg:https://learningandfamilies.org/wp-content/uploads/2022/07/AdobeStock_292907397-scaled.jpeg
END:VEVENT
BEGIN:VEVENT
DTSTART;VALUE=DATE:20230316
DTEND;VALUE=DATE:20230317
DTSTAMP:20260421T062327
CREATED:20220724T022345Z
LAST-MODIFIED:20220724T022345Z
UID:6846-1678924800-1679011199@learningandfamilies.org
SUMMARY:Spring Break
DESCRIPTION:LAF Co-op is closed for Spring Break. Enjoy this time of rest and be rejuvenated. We will see you next week!
URL:https://learningandfamilies.org/event/spring-break-2/
CATEGORIES:Co-op,Junior Co-op,Middle and High School Co-op
ATTACH;FMTTYPE=image/jpeg:https://learningandfamilies.org/wp-content/uploads/2022/07/AdobeStock_292907397-scaled.jpeg
END:VEVENT
END:VCALENDAR