BEGIN:VCALENDAR
VERSION:2.0
PRODID:-//Homeschooling - ECPv6.2.3//NONSGML v1.0//EN
CALSCALE:GREGORIAN
METHOD:PUBLISH
X-WR-CALNAME:Homeschooling
X-ORIGINAL-URL:https://learningandfamilies.org
X-WR-CALDESC:Events for Homeschooling
REFRESH-INTERVAL;VALUE=DURATION:PT1H
X-Robots-Tag:noindex
X-PUBLISHED-TTL:PT1H
BEGIN:VTIMEZONE
TZID:UTC
BEGIN:STANDARD
TZOFFSETFROM:+0000
TZOFFSETTO:+0000
TZNAME:UTC
DTSTART:20260101T000000
END:STANDARD
END:VTIMEZONE
BEGIN:VEVENT
DTSTART;TZID=UTC:20260316T090000
DTEND;TZID=UTC:20260320T150000
DTSTAMP:20260420T074630
CREATED:20250918T153530Z
LAST-MODIFIED:20250918T153530Z
UID:15524-1773651600-1774018800@learningandfamilies.org
SUMMARY:Spring Break
DESCRIPTION:Co-Op will be closed for Spring break 3/16-3/20th. Have fun\, everyone! \nMATTHEW 5: 16 – “Let your light so shine before men\, that they may see your good works\, and glorify your Father which is in heaven.”
URL:https://learningandfamilies.org/event/spring-break-4/
CATEGORIES:Co-op
END:VEVENT
END:VCALENDAR