BEGIN:VCALENDAR
VERSION:2.0
PRODID:-//Homeschooling - ECPv6.2.3//NONSGML v1.0//EN
CALSCALE:GREGORIAN
METHOD:PUBLISH
X-WR-CALNAME:Homeschooling
X-ORIGINAL-URL:https://learningandfamilies.org
X-WR-CALDESC:Events for Homeschooling
REFRESH-INTERVAL;VALUE=DURATION:PT1H
X-Robots-Tag:noindex
X-PUBLISHED-TTL:PT1H
BEGIN:VTIMEZONE
TZID:UTC
BEGIN:STANDARD
TZOFFSETFROM:+0000
TZOFFSETTO:+0000
TZNAME:UTC
DTSTART:20220101T000000
END:STANDARD
END:VTIMEZONE
BEGIN:VEVENT
DTSTART;TZID=UTC:20220820T180000
DTEND;TZID=UTC:20220820T210000
DTSTAMP:20260421T161752
CREATED:20220730T211944Z
LAST-MODIFIED:20220730T211944Z
UID:7325-1661018400-1661029200@learningandfamilies.org
SUMMARY:Manasota Rocks! LAF Theatre Benefit Concert
DESCRIPTION:Join the Learning & Families Theatre Troupe for our third annual Manasota Rocks! Benefit Concert. This event will feature local bands\, theatre skits\, soloists\, and more! There will also be a live silent auction and raffle as well as buffet style catering from Obee’s sandwich shop. \nTickets are $10 (or $65 for a table). \nClick here to order tickets.
URL:https://learningandfamilies.org/event/manasota-rocks-laf-theatre-benefit-concert/
LOCATION:The Music Compound\, 1751 Cattlemen Rd\, Sarasota\, FL\, 34232\, United States
CATEGORIES:Fundraiser,Theatre
END:VEVENT
END:VCALENDAR