BEGIN:VCALENDAR
VERSION:2.0
PRODID:-//Homeschooling - ECPv6.2.3//NONSGML v1.0//EN
CALSCALE:GREGORIAN
METHOD:PUBLISH
X-WR-CALNAME:Homeschooling
X-ORIGINAL-URL:https://learningandfamilies.org
X-WR-CALDESC:Events for Homeschooling
REFRESH-INTERVAL;VALUE=DURATION:PT1H
X-Robots-Tag:noindex
X-PUBLISHED-TTL:PT1H
BEGIN:VTIMEZONE
TZID:UTC
BEGIN:STANDARD
TZOFFSETFROM:+0000
TZOFFSETTO:+0000
TZNAME:UTC
DTSTART:20240101T000000
END:STANDARD
END:VTIMEZONE
BEGIN:VEVENT
DTSTART;TZID=UTC:20241009T100000
DTEND;TZID=UTC:20241009T120000
DTSTAMP:20260424T124134
CREATED:20240917T183554Z
LAST-MODIFIED:20240917T183554Z
UID:12301-1728468000-1728475200@learningandfamilies.org
SUMMARY:Arts A Blaze- All Ages
DESCRIPTION:Calling all Artists!! If you missed our field trip last month\, you have another opportunity to use that talent. Please come out and join us at Arts a Blaze\, this is open to Jr. co-op all the way up to HS. You will purchase your items at the shop. We have enough spots for 38 artists to attend.\nIf you could please list the artists name\, grade below so we can keep track. Arts a Blaze is located on main street in Lakewood Ranch so parking can be tricky. They do have two parking lots just off the main strip.\nDate: October 9\, 2024Time: 10am-12pmLocation: Arts a Blaze8111 Lakewood Ranch St.\, Ste. 107Lakewood Ranch\, FL 34202\nAll Participates must wear the LAF green shirt.\nParent or Chaperone MUST be present the entire Field Trip. This is NOT a drop and go.
URL:https://learningandfamilies.org/event/arts-a-blaze-all-ages/
LOCATION:Arts A Blaze Studio\, 8111 Lakewood Main St\, Ste 107\, Lakewood Ranch\, FL\, 34202\, United States
CATEGORIES:Field Trip
END:VEVENT
END:VCALENDAR