BEGIN:VCALENDAR
VERSION:2.0
PRODID:-//Homeschooling - ECPv6.2.3//NONSGML v1.0//EN
CALSCALE:GREGORIAN
METHOD:PUBLISH
X-ORIGINAL-URL:https://learningandfamilies.org
X-WR-CALDESC:Events for Homeschooling
REFRESH-INTERVAL;VALUE=DURATION:PT1H
X-Robots-Tag:noindex
X-PUBLISHED-TTL:PT1H
BEGIN:VTIMEZONE
TZID:UTC
BEGIN:STANDARD
TZOFFSETFROM:+0000
TZOFFSETTO:+0000
TZNAME:UTC
DTSTART:20230101T000000
END:STANDARD
END:VTIMEZONE
BEGIN:VEVENT
DTSTART;TZID=UTC:20231018T100000
DTEND;TZID=UTC:20231018T113000
DTSTAMP:20260423T205126
CREATED:20230907T200919Z
LAST-MODIFIED:20230907T200919Z
UID:9537-1697623200-1697628600@learningandfamilies.org
SUMMARY:Sarasota Bradenton International Airport Field Trip
DESCRIPTION:Come join us as we tour the SRQ airport. We will be able to see areas that most people never get to see! Enjoy learning about how all of the different jobs work together to keep each area running smoothly. This field trip is for 1st graders and UP ONLY.
URL:https://learningandfamilies.org/event/sarasota-bradenton-international-airport-field-trip/
LOCATION:SRQ\, 6000 Airport Circle\, Sarasota\, FL\, 34241\, United States
CATEGORIES:Field Trip
END:VEVENT
END:VCALENDAR