BEGIN:VCALENDAR
VERSION:2.0
PRODID:-//Homeschooling - ECPv6.2.3//NONSGML v1.0//EN
CALSCALE:GREGORIAN
METHOD:PUBLISH
X-WR-CALNAME:Homeschooling
X-ORIGINAL-URL:https://learningandfamilies.org
X-WR-CALDESC:Events for Homeschooling
REFRESH-INTERVAL;VALUE=DURATION:PT1H
X-Robots-Tag:noindex
X-PUBLISHED-TTL:PT1H
BEGIN:VTIMEZONE
TZID:UTC
BEGIN:STANDARD
TZOFFSETFROM:+0000
TZOFFSETTO:+0000
TZNAME:UTC
DTSTART:20260101T000000
END:STANDARD
END:VTIMEZONE
BEGIN:VEVENT
DTSTART;TZID=UTC:20260209T180000
DTEND;TZID=UTC:20260209T203000
DTSTAMP:20260420T050101
CREATED:20251202T023837Z
LAST-MODIFIED:20251202T023837Z
UID:15701-1770660000-1770669000@learningandfamilies.org
SUMMARY:Teen S'mores and Movies under the stars
DESCRIPTION: Movie & S’mores Under the Stars  \n Teen Night Out! \nGet ready for a cozy evening of delicious treats and a movie under the beautiful Florida sky!\n When & Where:\nDate: Saturday\, February 9th\, 2026\nTime: 6:00 PM until the movie ends (approx. 8:30 PM)\nLocation: 1322 Thornbury Dr.\, Parrish\, FL 34219\nGate Code: #6141 (Please enter slowly and use this code!)\n What’s On the Menu?\nUltimate Nacho Bar! (Provided)\nWarm & Gooey S’mores! (Provided)\n What to Bring (Potluck Style!):\nTo make our spread amazing\, please bring one of the following to share:\nA fun Nacho Topping (e.g.\, salsa\, guacamole\, olives\, specialty cheese)\nOR\nA Dessert (e.g.\, cookies\, brownies\, cupcakes)\n Seating:\nSpace is limited\, so please bring your own picnic blankets or extra chairs for maximum comfort!\nNote: This event is for teens only. Come ready to relax\, eat\, and hang out!\nSee you there! 
URL:https://learningandfamilies.org/event/teen-smores-and-movies-under-the-stars/
LOCATION:Ally Ehrhard’s House\, 1322 Thornbury Dr.\, Parrish\, FL\, 34219\, United States
CATEGORIES:High School,Middle School,Small Groups,Special Events
END:VEVENT
BEGIN:VEVENT
DTSTART;TZID=UTC:20260212T133000
DTEND;TZID=UTC:20260212T150000
DTSTAMP:20260420T050101
CREATED:20251007T161434Z
LAST-MODIFIED:20251202T021635Z
UID:15602-1770903000-1770908400@learningandfamilies.org
SUMMARY:LAF Valentine's Exchange
DESCRIPTION:February 13th from 1 pm-3 pm\, more details to come.
URL:https://learningandfamilies.org/event/laf-valentines-exchange/
LOCATION:Bethel Church\, 1805 30th Ave W\,\, FL\, Bradenton\, FL\, 34205\, United States
CATEGORIES:Co-op,Special Events
END:VEVENT
BEGIN:VEVENT
DTSTART;VALUE=DATE:20260220
DTEND;VALUE=DATE:20260221
DTSTAMP:20260420T050101
CREATED:20251002T154129Z
LAST-MODIFIED:20251002T154129Z
UID:15593-1771545600-1771631999@learningandfamilies.org
SUMMARY:Legoland Florida Field Trip
DESCRIPTION:🌟 Family Field Trip to LEGOLAND Florida! 🌟 \nJoin us for an unforgettable day at LEGOLAND Florida Resort!📅 Date: Thursday\, February 20th⏰ Time: 10:00 AM📍 Location: 1 Legoland Way\, Winter Haven\, FL 33884 \n🎟️ Cost: \n\n\n$26 per child (K–8th grade) \n\n\n$41 per adult \n\n\nEnjoy a self-guided adventure through all the rides\, shows\, and attractions—no need to stay as a group\, explore at your own pace! 🏰🎢✨ \n👉 Tickets can be purchased through the shop.👉 Please RSVP under Facebook events. \nDon’t miss this brick-tastic day of fun for the whole family! 🧱💛
URL:https://learningandfamilies.org/event/legoland-florida-field-trip/
LOCATION:Legoland\, One LEGOLAND Way\, Winter Haven\, FL\, 33884\, United States
CATEGORIES:Co-op,Field Trip,Special Events
END:VEVENT
BEGIN:VEVENT
DTSTART;TZID=UTC:20260228T140000
DTEND;TZID=UTC:20260228T150000
DTSTAMP:20260420T050101
CREATED:20260202T174349Z
LAST-MODIFIED:20260202T174349Z
UID:15821-1772287200-1772290800@learningandfamilies.org
SUMMARY:Mom's Day Out\, Self Defense Edition
DESCRIPTION:MOMS DAY OUT: Self-Defense & Bonding​Empower Yourself. Empower Your Daughter.​Are you looking for a unique way to connect with your middle or high school daughter? Come share an afternoon of quality time that builds confidence and real-world skills.​THE WORKSHOPDiscover the power of Jiu-Jitsu. You don’t need to be the biggest or strongest person in the room to be safe. We will explore techniques specifically designed to help you defend yourself against a larger\, untrained attacker.​No Experience Needed: Whether you are a fitness fanatic or just starting out\, you can jump right in.​Supportive Environment: Experience the Gracie Bradenton culture\, where our female students support one another’s growth every step of the way.​MEET YOUR COACHKate\, Gracie Bradenton’s Head Women’s Coach\, will guide you through the session. She is dedicated to making you a skilled grappler capable of handling opponents of any gender.​EVENT DETAILS​ When: February 28th @ 2:00 PM Where: Gracie Bradenton Cost: $25 per person Attire: Please wear comfortable shoes. The class is approximately 1 hour.
URL:https://learningandfamilies.org/event/moms-day-out-self-defense-edition/
LOCATION:Gracie Bradenton\, 5268 FL-64\, Bradenton\, FL\, 34208\, United States
CATEGORIES:High School,Middle School,Mom's Night Out
END:VEVENT
BEGIN:VEVENT
DTSTART;TZID=UTC:20260305T133000
DTEND;TZID=UTC:20260305T150000
DTSTAMP:20260420T050101
CREATED:20251028T151758Z
LAST-MODIFIED:20251028T151758Z
UID:15666-1772717400-1772722800@learningandfamilies.org
SUMMARY:Annual Egg Drop Challenge
DESCRIPTION: Don’t miss our Annual Egg Drop Challenge! \nEvery year it is exciting to see how many eggs actually survived the great fall\, and this year is going to be even better! \nFor the Egg Drop Challenge\, our LAF students of ALL AGES (Preschool – High school)are challenged to design a system to protect a raw egg from cracking or breaking from a high fall. You can use any materials that you like to protect your egg so it will SURVIVE the fall! \nThere will be a participation prize for all contestants and special prizes for the most creative\, best design\, most unusual material used\, and many other categories! – The Egg drop will take place at Co-op on March 5th. \n1:30 start time for Preschool-5th Grade \n2:15 start time for our Middle and High school students.
URL:https://learningandfamilies.org/event/annual-egg-drop-challenge/
LOCATION:Bethel Church\, 1805 30th Ave W\,\, FL\, Bradenton\, FL\, 34205\, United States
CATEGORIES:Co-op,Special Events
END:VEVENT
END:VCALENDAR