BEGIN:VCALENDAR
VERSION:2.0
PRODID:-//Homeschooling - ECPv6.2.3//NONSGML v1.0//EN
CALSCALE:GREGORIAN
METHOD:PUBLISH
X-ORIGINAL-URL:https://learningandfamilies.org
X-WR-CALDESC:Events for Homeschooling
REFRESH-INTERVAL;VALUE=DURATION:PT1H
X-Robots-Tag:noindex
X-PUBLISHED-TTL:PT1H
BEGIN:VTIMEZONE
TZID:UTC
BEGIN:STANDARD
TZOFFSETFROM:+0000
TZOFFSETTO:+0000
TZNAME:UTC
DTSTART:20220101T000000
END:STANDARD
END:VTIMEZONE
BEGIN:VEVENT
DTSTART;TZID=UTC:20250326T100000
DTEND;TZID=UTC:20250326T110000
DTSTAMP:20260420T164850
CREATED:20240916T171248Z
LAST-MODIFIED:20240916T171406Z
UID:12269-1742983200-1742986800@learningandfamilies.org
SUMMARY:"The Flying Penguin and Other Winning Plays" at Florida Studio Theatre
DESCRIPTION:The SECOND performance in a THREE-PLAY series! \nTop plays written by elementary school students from our community and around the world are brought to life by a cast of professional actors. From an acorn afraid to leave the tree to the transformative power of a peanut butter and jelly sandwich\, and a penguin flying to outer space\, we spotlight the magic of children’s creativity through this cherished annual production for over 30 years.
URL:https://learningandfamilies.org/event/the-flying-penguin-and-other-winning-plays-at-florida-studio-theatre/
LOCATION:Florida Studio Theatre\, 1241 N Palm Ave\, Sarasota\, FL\, 34236\, United States
CATEGORIES:Field Trip,Performances
END:VEVENT
BEGIN:VEVENT
DTSTART;TZID=UTC:20250207T113000
DTEND;TZID=UTC:20250207T123000
DTSTAMP:20260420T164850
CREATED:20240916T171759Z
LAST-MODIFIED:20240916T171759Z
UID:12272-1738927800-1738931400@learningandfamilies.org
SUMMARY:"Aesop's Fables" Play at Florida Studio Theatre
DESCRIPTION:The classic tales of Aesop come to life on the FST stage! \nPlease note\, this show is only open to children ages five and up and parents. \nExperience the charm of Aesop’s Fables like never before in this lively two-actor production. Full of humor\, hijinks\, and timeless morals\, our talented duo brings Aesop’s classic tales to life with creativity and audience engagement. Join us for an unforgettable journey where every story teaches a valuable lesson. \nClick HERE to buy tickets. \n 
URL:https://learningandfamilies.org/event/aesops-fables-play-at-florida-studio-theatre/
LOCATION:Florida Studio Theatre\, 1241 N Palm Ave\, Sarasota\, FL\, 34236\, United States
CATEGORIES:Field Trip,Performances
END:VEVENT
BEGIN:VEVENT
DTSTART;TZID=UTC:20241218T113000
DTEND;TZID=UTC:20241218T123000
DTSTAMP:20260420T164850
CREATED:20240909T165911Z
LAST-MODIFIED:20240909T165927Z
UID:12224-1734521400-1734525000@learningandfamilies.org
SUMMARY:“Deck the Halls” Play at Florida Studio Theatre
DESCRIPTION:A brand-new rendition of everything that makes Christmas and Hanukkah in Sarasota special. With all-new songs and sketches\, Deck the Halls gets audiences ready to celebrate the holidays\, Florida style! Get excited for palm trees with decorations\, swimming in the sea\, sand snowmen\, and more. An annual Sarasota holiday tradition\, Deck the Halls invites families to get into the holiday spirit and join in on the fun at this interactive family show.\nWe have only 10 Seats available for this show\, so get your tickets right away!\n\nChildren under five are not permitted. Adults must also purchase a ticket.\n\nTickets are available on the LAF Shop.
URL:https://learningandfamilies.org/event/deck-the-halls-play-at-florida-studio-theatre/
LOCATION:Florida Studio Theatre\, 1241 N Palm Ave\, Sarasota\, FL\, 34236\, United States
CATEGORIES:Field Trip,Performances
END:VEVENT
BEGIN:VEVENT
DTSTART;TZID=UTC:20241206T183000
DTEND;TZID=UTC:20241206T200000
DTSTAMP:20260420T164850
CREATED:20241116T171442Z
LAST-MODIFIED:20241116T171442Z
UID:12574-1733509800-1733515200@learningandfamilies.org
SUMMARY:“The Best Christmas Pageant Ever” Junior Theatre Production
DESCRIPTION:Join us for the LAF Junior Theatre Production of The Best Christmas Pageant Ever. In this hilarious Christmas classic\, a couple struggling to put on a church Christmas pageant is faced with casting the Herdman kids – probably the most inventively awful kids in history. You won’t believe the mayhem – and the fun – when the Herdmans collide head-on with the story of Christmas! \nDate: Friday\, December 6\, 2024 \nTime: 6:30 pm \nLocation: Faith Church (1201 N Beneva Rd\, Sarasota\, FL  34232) \nAdult Tickets: $10 each Click HERE \nChild Tickets: $5 each Click HERE
URL:https://learningandfamilies.org/event/the-best-christmas-pageant-ever-junior-theatre-production/
LOCATION:Faith Church\,\, 1201 N Beneva Rd\, Sarasota\, FL\, 34232\, United States
CATEGORIES:Performances
END:VEVENT
BEGIN:VEVENT
DTSTART;TZID=UTC:20241205T133000
DTEND;TZID=UTC:20241205T143000
DTSTAMP:20260420T164850
CREATED:20240916T170351Z
LAST-MODIFIED:20240916T170848Z
UID:12265-1733405400-1733409000@learningandfamilies.org
SUMMARY:Florida Studio Theatre Playmakers Tour at LAF
DESCRIPTION:The SECOND performance in a THREE PLAY series! \nThis fun and interactive performance walks students through the process of writing a play. Students will see a handful of winning plays\, and then they will work together to write a play on the spot!
URL:https://learningandfamilies.org/event/florida-studio-theatre-playmakers-tour-at-laf/
LOCATION:Renewal Church\, 7221 Bee Ridge Road\, Sarasota\, 34241\, United States
CATEGORIES:Field Trip,Performances
END:VEVENT
BEGIN:VEVENT
DTSTART;TZID=UTC:20241002T100000
DTEND;TZID=UTC:20241002T110000
DTSTAMP:20260420T164850
CREATED:20240916T165313Z
LAST-MODIFIED:20240916T165334Z
UID:12263-1727863200-1727866800@learningandfamilies.org
SUMMARY:"Junie B. Jones" Play at Florida Studio Theatre
DESCRIPTION:The FIRST Play in the Three Play Series! \nJoin Junie B. as she starts a new school year\, writing down her escapades in her Top-Secret Personal Beeswax Journal. From navigating the cafeteria to turning a stubbed toe into a show-stopping performance and even getting her first pair of glasses\, Junie B.’s year is full of excitement. Along the way\, she learns about friendship\, family\, and the importance of everyone’s story. \nClick HERE to buy tickets.
URL:https://learningandfamilies.org/event/junie-b-jones-play-at-florida-studio-theatre/
LOCATION:Florida Studio Theatre\, 1241 N Palm Ave\, Sarasota\, FL\, 34236\, United States
CATEGORIES:Field Trip,Performances
END:VEVENT
BEGIN:VEVENT
DTSTART;VALUE=DATE:20231203
DTEND;VALUE=DATE:20231204
DTSTAMP:20260420T164850
CREATED:20231027T153940Z
LAST-MODIFIED:20231027T160531Z
UID:9937-1701561600-1701647999@learningandfamilies.org
SUMMARY:LAF Fall Musical -- TheWizard of Oz
DESCRIPTION:This Fall\, LAF proudly presents one of the most beloved tales of all time. The LAF Theatre Troupe is bringing to life on the stage the story of Dorothy and her three friends as they trot delightfully and tunefully down that fabled road of yellow brick in The Wizard of Oz musical. \nAfter a tornado whisks young Dorothy Gale away to the magical land of Oz\, she teams up with a Scarecrow\, a Tin Woodsman\, and a Cowardly Lion to find the mighty Wizard of Oz\, who can send her home. Along the way\, they must avoid the clutches of the Wicked Witch of the West\, who is trying to steal the mysterious magic slippers that once belonged to her evil sister… but are now on Dorothy’s feet. Dorothy eventually learns just how magical friendship can be and how wonderful it can feel to go home again. \nThe LAF Fall Musical will be held at Rise Above Performing Arts Centre in Sarasota. There are two performances\, at 4:00 pm and 7:00 pm\, and there are three ticket price options: \n$10 – General Admissions \n$15 – VIP \n$60 – Table Top (four seats) \n 
URL:https://learningandfamilies.org/event/laf-fall-musical-thewizard-of-oz/
LOCATION:Rise Above Performing Arts Centre\, 3501 S Tamiami Trail Suite 1105\, Sarasota\, FL\, 34239\, United States
CATEGORIES:Performances,Theatre
END:VEVENT
BEGIN:VEVENT
DTSTART;TZID=UTC:20230429T163000
DTEND;TZID=UTC:20230429T183000
DTSTAMP:20260420T164850
CREATED:20230331T174217Z
LAST-MODIFIED:20230331T174217Z
UID:8127-1682785800-1682793000@learningandfamilies.org
SUMMARY:"Dear Edwina Junior" 4:30 PM Performance
DESCRIPTION:The LAF Theatre Troup is excited for this year’s Spring Musical production of Dear Edwina Junior. This year’s musical is the story of plucky advice-giver-extraordinaire\, Edwina Spoonapple\, as she directs the neighborhood kids in a series of buoyant production numbers for the latest edition of her weekly “Advice-a-Palooza.” Edwina and her friends share wisdom on everything from trying new foods to making new friends through clever\, catchy\, and poignant songs. \nTo purchase tickets\, visit the LAF Shop.
URL:https://learningandfamilies.org/event/dear-edwina-junior-430-pm-performance/
LOCATION:Rise Above Performing Arts Centre\, 3501 S Tamiami Trail Suite 1105\, Sarasota\, FL\, 34239\, United States
CATEGORIES:Performances
END:VEVENT
BEGIN:VEVENT
DTSTART;TZID=UTC:20230429T130000
DTEND;TZID=UTC:20230429T150000
DTSTAMP:20260420T164850
CREATED:20230331T173728Z
LAST-MODIFIED:20230331T174054Z
UID:8124-1682773200-1682780400@learningandfamilies.org
SUMMARY:"Dear Edwina Junior" 1:00 PM Performance
DESCRIPTION:The LAF Theatre Troup is excited for this year’s Spring Musical production of Dear Edwina Junior. This year’s musical is the story of plucky advice-giver-extraordinaire\, Edwina Spoonapple\, as she directs the neighborhood kids in a series of buoyant production numbers for the latest edition of her weekly “Advice-a-Palooza.” Edwina and her friends share wisdom on everything from trying new foods to making new friends through clever\, catchy\, and poignant songs. \nTo purchase tickets\, visit the LAF Shop.
URL:https://learningandfamilies.org/event/dear-edwina-junior-100-pm-performance/
LOCATION:Rise Above Performing Arts Centre\, 3501 S Tamiami Trail Suite 1105\, Sarasota\, FL\, 34239\, United States
CATEGORIES:Performances
END:VEVENT
BEGIN:VEVENT
DTSTART;TZID=UTC:20221204T190000
DTEND;TZID=UTC:20221204T203000
DTSTAMP:20260420T164850
CREATED:20221110T162224Z
LAST-MODIFIED:20221110T190702Z
UID:7660-1670180400-1670185800@learningandfamilies.org
SUMMARY:The Jungle Book
DESCRIPTION:Join us for the debut performance of the LAF Junior Theatre Troupe. Our students in first through fifth grade will perform The Jungle Book. \nTickets are $5 each and can be purchased here.
URL:https://learningandfamilies.org/event/the-jungle-book/
LOCATION:The Music Compound\, 1751 Cattlemen Rd\, Sarasota\, FL\, 34232\, United States
CATEGORIES:Performances
END:VEVENT
END:VCALENDAR