BEGIN:VCALENDAR
VERSION:2.0
PRODID:-//Homeschooling - ECPv6.2.3//NONSGML v1.0//EN
CALSCALE:GREGORIAN
METHOD:PUBLISH
X-ORIGINAL-URL:https://learningandfamilies.org
X-WR-CALDESC:Events for Homeschooling
REFRESH-INTERVAL;VALUE=DURATION:PT1H
X-Robots-Tag:noindex
X-PUBLISHED-TTL:PT1H
BEGIN:VTIMEZONE
TZID:UTC
BEGIN:STANDARD
TZOFFSETFROM:+0000
TZOFFSETTO:+0000
TZNAME:UTC
DTSTART:20250101T000000
END:STANDARD
END:VTIMEZONE
BEGIN:VEVENT
DTSTART;TZID=UTC:20251107T183000
DTEND;TZID=UTC:20251107T200000
DTSTAMP:20260420T050350
CREATED:20250831T144647Z
LAST-MODIFIED:20250831T144647Z
UID:15470-1762540200-1762545600@learningandfamilies.org
SUMMARY:Teen Night At Fish Hole LWR
DESCRIPTION:Teens come out and enjoy a fun night of putt-putt. Make sure to have $10 for the event and extra for a treat\, such as ice cream or coffee\, after! Parents feel free to stay or drop off\, some of us will be meeting for dinner beforehand if you want to join!
URL:https://learningandfamilies.org/event/teen-night-at-fish-hole-lwr/
LOCATION:The Fish Hole at Lakewood Ranch\, 10725 Rodeo Drive\, Bradenton\, FL\, 34202\, United States
CATEGORIES:High School,Middle and High School Co-op,Middle School,Small Groups
END:VEVENT
BEGIN:VEVENT
DTSTART;TZID=UTC:20251104T100000
DTEND;TZID=UTC:20251104T120000
DTSTAMP:20260420T050350
CREATED:20251002T134202Z
LAST-MODIFIED:20251002T134202Z
UID:15581-1762250400-1762257600@learningandfamilies.org
SUMMARY:Make Up Picture Day
DESCRIPTION:
URL:https://learningandfamilies.org/event/make-up-picture-day-2/
LOCATION:Bethel Church\, 1805 30th Ave W\,\, FL\, Bradenton\, FL\, 34205\, United States
CATEGORIES:Co-op,Junior Co-op,Middle and High School Co-op
END:VEVENT
BEGIN:VEVENT
DTSTART;TZID=UTC:20251030T140000
DTEND;TZID=UTC:20251030T151500
DTSTAMP:20260420T050350
CREATED:20250916T165553Z
LAST-MODIFIED:20250916T165553Z
UID:15500-1761832800-1761837300@learningandfamilies.org
SUMMARY:Fall Festival and Kids Market
DESCRIPTION: It’s That Time of Year Again! We are thrilled to host LAF’s 2nd Annual Fall Festival & Kids Craft Market (formerly Trunk or Treat) Thursday\, October 30th 2:00–3:15 PM At Co-op (back of the building near the Woodshop & grassy area)\n Kids Craft Market – Reserve Your Spot!Back by popular demand!No fee to reserve a table – but space is limited to 12 tables!To reserve: email Allison Flagg at  lafvpres@gmail.comPlease include:Young entrepreneur’s name & ageProducts they wish to sellPrice pointAllison will reply with full details!\n FREE Snow Cones! Enjoy a tasty treat\, on us! FREE Face Painting\n Costume GuidelinesAll participants must wear a costume. Students are welcome to wear their costumes all day at co-op\, or change into it right before it starts.Fun ideas:Dress as your favorite book character Superheroes\, princesses\, animals\, etc.  No scary costumes or scary masks – this is a family-friendly event! Masks are allowed Scary masks are not allowed – anyone in a scary mask will not be able to participate.\n Who Can Participate?Primarily for elementary-age studentsMiddle & High School students in costume are welcome!If you have class during this time\, speak with your teacher first and come in a non-scary costume\n Trunk Volunteers Needed!We need about 10 families to decorate their trunk & pass out candy!If you decorate a trunk\, you do not need to bring candy.Need ideas? Check Pinterest for non-scary trunk themes!We already have a few families signed up – we’d love more! Email or post in the thread.\n Candy DonationsEach family is asked to donate 1 large bag of candy or non-candy items. This will be distributed among the decorated trunks.\n Arrival Info:THURSDAY Junior Co-op Families:Eat lunch right after dismissal at 1:00 (pack or order pizza).Event starts at 2:00!TUESDAY Co-op & Support Community Families:Arrive at 1:50 PM on the 30th.Drop off your candy donation at the table in front of the gym.Wait in the gym until the event begins. Please do not park in the front paved spots or the sectioned-off Woodshop area. Consider decorating a trunk since you’re available earlier!\n Let Us Know You’re Coming!Please comment in the threads below with:Participants’ names & gradesWhether you’re bringing a bag of candyOr decorating a trunk!\n Let’s make our 2nd Annual Fall Festival a huge success! We can’t wait to see your creative costumes and support our amazing young entrepreneurs! 
URL:https://learningandfamilies.org/event/fall-festival-and-kids-market/
LOCATION:FL
CATEGORIES:Co-op,Junior Co-op,Middle and High School Co-op,Special Events
END:VEVENT
BEGIN:VEVENT
DTSTART;TZID=UTC:20251009T090000
DTEND;TZID=UTC:20251009T130000
DTSTAMP:20260420T050350
CREATED:20250814T144708Z
LAST-MODIFIED:20250814T144708Z
UID:15424-1760000400-1760014800@learningandfamilies.org
SUMMARY:School Picture Day
DESCRIPTION:Make sure to look your best\, it’s picture day! Pictures will be taken from 9 AM-1 PM in the Gym\, come ready with a smile
URL:https://learningandfamilies.org/event/school-picture-day-3/
LOCATION:Bethel Church\, 1805 30th Ave W\,\, FL\, Bradenton\, FL\, 34205\, United States
CATEGORIES:Co-op,Junior Co-op,Middle and High School Co-op
END:VEVENT
BEGIN:VEVENT
DTSTART;TZID=UTC:20250918T180000
DTEND;TZID=UTC:20250918T203000
DTSTAMP:20260420T050350
CREATED:20250814T142721Z
LAST-MODIFIED:20250814T142721Z
UID:15413-1758218400-1758227400@learningandfamilies.org
SUMMARY:Mom's Night Out/Middle and High Ice Cream Social
DESCRIPTION: Ice Cream Social & Game Night! \nCalling all LAF Moms & Middle/High School Students!Join us for a sweet night of fun\, fellowship\, and games at Co-op on Thursday\, September 18th at 6:00 PM!\n Teens – Bring your favorite board or card game and get ready for a night of laughs\, connection\, and lots of ice cream!\n Moms – Relax\, enjoy some fellowship\, and create your perfect ice cream sundae while connecting with other awesome moms.\n Everyone brings a topping to share – sprinkles\, chocolate chips\, caramel sauce… You name it! We will either have a sign-up\, or just have everyone post what they are bringing.\nLet’s make memories\, have some fun\, and build community—one scoop at a time. See you there!
URL:https://learningandfamilies.org/event/moms-night-out-middle-and-high-ice-cream-social/
LOCATION:Bethel Church\, 1805 30th Ave W\,\, FL\, Bradenton\, FL\, 34205\, United States
CATEGORIES:High School,Middle and High School Co-op,Middle School,Special Events
END:VEVENT
BEGIN:VEVENT
DTSTART;VALUE=DATE:20250508
DTEND;VALUE=DATE:20250509
DTSTAMP:20260420T050350
CREATED:20250121T185315Z
LAST-MODIFIED:20250121T185415Z
UID:12781-1746662400-1746748799@learningandfamilies.org
SUMMARY:Last Day of Co-Op
DESCRIPTION:“Hold on to instruction\, do not let it go; guard it well\, for it is your life.”  Proverbs 4:13
URL:https://learningandfamilies.org/event/last-day-of-co-op/2025-05-08/
LOCATION:FL
CATEGORIES:Co-op
ATTACH;FMTTYPE=image/jpeg:https://learningandfamilies.org/wp-content/uploads/2025/01/summerbeach-scaled.jpg
END:VEVENT
BEGIN:VEVENT
DTSTART;VALUE=DATE:20250506
DTEND;VALUE=DATE:20250507
DTSTAMP:20260420T050350
CREATED:20250121T185315Z
LAST-MODIFIED:20250121T185415Z
UID:12778-1746489600-1746575999@learningandfamilies.org
SUMMARY:Last Day of Co-Op
DESCRIPTION:“Hold on to instruction\, do not let it go; guard it well\, for it is your life.”  Proverbs 4:13
URL:https://learningandfamilies.org/event/last-day-of-co-op/2025-05-06/
LOCATION:FL
CATEGORIES:Co-op
ATTACH;FMTTYPE=image/jpeg:https://learningandfamilies.org/wp-content/uploads/2025/01/summerbeach-scaled.jpg
END:VEVENT
BEGIN:VEVENT
DTSTART;TZID=UTC:20250503T173000
DTEND;TZID=UTC:20250503T220000
DTSTAMP:20260420T050350
CREATED:20250225T021236Z
LAST-MODIFIED:20250304T163403Z
UID:12987-1746293400-1746309600@learningandfamilies.org
SUMMARY:2025 LAF Prom: City of Stars
DESCRIPTION:Homeschoolers and their guests are invited to the 2025 LAF Prom: City of Stars! This will be a fun and exciting evening full of food\, friends\, music\, dancing\, and many great memories.\n\n\nBefore purchasing tickets\, read all information carefully. Please be aware that failure to adhere to our guidelines will result in forfeiting your ticket without a refund.  Students and guests must be in High school AND at least 14-years-old (by 9/1/24).
URL:https://learningandfamilies.org/event/2025-laf-prom-city-of-stars/
LOCATION:FL
CATEGORIES:Middle and High School Co-op
END:VEVENT
BEGIN:VEVENT
DTSTART;TZID=UTC:20250503T100000
DTEND;TZID=UTC:20250503T120000
DTSTAMP:20260420T050350
CREATED:20250219T231720Z
LAST-MODIFIED:20250219T231720Z
UID:12966-1746266400-1746273600@learningandfamilies.org
SUMMARY:Lion King Jr\, The Musical
DESCRIPTION:Don’t Miss this opportunity to see the Lion King Jr. Musical performed by Woodland Fine Arts Academy students at Woodland Community Church. This is also a chance to a support several of your fellow LAF students who are performing in the show and who contributed to the set\, props\, and costume design for the performances. There are two options to see the show.\nFriday 5/2 at 10am.This show requires a $6 per person ticket purchase and must be completed by 3/5 as tickets will be used to secure reserved seating for our group.\nSaturday 5/3 at 6:30pmNo ticket purchase required and seating is first come first serve.\nThese Field trips are open to all students and community members and their families.\nLocation:9607 State Rd. 70 Bradenton\, Florida\nPlease reply with number of students and family members attending and what show you will attend. If attending the Friday show\, please purchase tickets in the shop starting tomorrow and post below how many will attend.
URL:https://learningandfamilies.org/event/lion-king-jr-the-musical/2025-05-03/
LOCATION:FL
CATEGORIES:Co-op
END:VEVENT
BEGIN:VEVENT
DTSTART;TZID=UTC:20250502T100000
DTEND;TZID=UTC:20250502T120000
DTSTAMP:20260420T050350
CREATED:20250219T231720Z
LAST-MODIFIED:20250219T231720Z
UID:12964-1746180000-1746187200@learningandfamilies.org
SUMMARY:Lion King Jr\, The Musical
DESCRIPTION:Don’t Miss this opportunity to see the Lion King Jr. Musical performed by Woodland Fine Arts Academy students at Woodland Community Church. This is also a chance to a support several of your fellow LAF students who are performing in the show and who contributed to the set\, props\, and costume design for the performances. There are two options to see the show.\nFriday 5/2 at 10am.This show requires a $6 per person ticket purchase and must be completed by 3/5 as tickets will be used to secure reserved seating for our group.\nSaturday 5/3 at 6:30pmNo ticket purchase required and seating is first come first serve.\nThese Field trips are open to all students and community members and their families.\nLocation:9607 State Rd. 70 Bradenton\, Florida\nPlease reply with number of students and family members attending and what show you will attend. If attending the Friday show\, please purchase tickets in the shop starting tomorrow and post below how many will attend.
URL:https://learningandfamilies.org/event/lion-king-jr-the-musical/2025-05-02/
LOCATION:FL
CATEGORIES:Co-op
END:VEVENT
BEGIN:VEVENT
DTSTART;TZID=UTC:20250425T110000
DTEND;TZID=UTC:20250425T130000
DTSTAMP:20260420T050350
CREATED:20250225T015025Z
LAST-MODIFIED:20250225T015025Z
UID:12976-1745578800-1745586000@learningandfamilies.org
SUMMARY:2025 Kindergarten Graduation
DESCRIPTION:Looking for the cutest thing ever? Wait no longer\, come join us as we cheer on our Learning and Families Kindergarten Graduates. All are welcome\, invite as many families and friends as you want to attend. There will be plenty of room to seat everyone for the ceremony. We will have some snacks in honor of our Graduates.
URL:https://learningandfamilies.org/event/2025-kindergarten-graduation/
LOCATION:FL
CATEGORIES:Co-op
ATTACH;FMTTYPE=image/jpeg:https://learningandfamilies.org/wp-content/uploads/2025/02/2025-graduation.jpg
END:VEVENT
BEGIN:VEVENT
DTSTART;TZID=UTC:20250424T130000
DTEND;TZID=UTC:20250424T143000
DTSTAMP:20260420T050350
CREATED:20250218T170515Z
LAST-MODIFIED:20250304T165754Z
UID:12946-1745499600-1745505000@learningandfamilies.org
SUMMARY:Curriculum Sale & Kids Craft Market
DESCRIPTION:Do you have used books and curriculum that you are no longer using? Do you LOVE crafts?  Sign up for a table at our Curriculum Sale on Thursday\, April 24th from 1:00-2:30 pm in the Gym at Renewal Church (7221 Bee Ridge Rd\, Sarasota).\nAll of our LAF Support Community and Co-op families are invited to join and take part in the sale and participate in the kid’s market. There is no charge for a table\, but you MUST let us know if you want to reserve a spot to sell your books.  We will not be providing tables\, so you need to bring any tables or materials you need with you to display your items. All curriculum\, materials and crafts must be labeled and ready to display with clear pricing. At the end of the sale\, all materials must be taken with you; nothing can be left behind. You have the option to share a table with another LAF family if you don’t have enough to sell by yourself.\nTo reserve your spot\, email lafvpres@gmail.com before April 10th. Setup will be between 12:30 and 1:00 pm on the day of the sale.\nShopping is open to the public\, so please tell your friends and share the events!
URL:https://learningandfamilies.org/event/used-curriculum-sale/
LOCATION:FL
CATEGORIES:Co-op
END:VEVENT
BEGIN:VEVENT
DTSTART;VALUE=DATE:20250424
DTEND;VALUE=DATE:20250425
DTSTAMP:20260420T050350
CREATED:20250218T164707Z
LAST-MODIFIED:20250218T164707Z
UID:12944-1745452800-1745539199@learningandfamilies.org
SUMMARY:Spirit Day
DESCRIPTION:Come all Decked out in your Neon to celebrate Spirit Day.
URL:https://learningandfamilies.org/event/spirit-day-3/2025-04-24/
LOCATION:FL
CATEGORIES:Co-op
END:VEVENT
BEGIN:VEVENT
DTSTART;VALUE=DATE:20250422
DTEND;VALUE=DATE:20250423
DTSTAMP:20260420T050350
CREATED:20250218T164707Z
LAST-MODIFIED:20250218T164707Z
UID:12941-1745280000-1745366399@learningandfamilies.org
SUMMARY:Spirit Day
DESCRIPTION:Come all Decked out in your Neon to celebrate Spirit Day.
URL:https://learningandfamilies.org/event/spirit-day-3/2025-04-22/
LOCATION:FL
CATEGORIES:Co-op
END:VEVENT
BEGIN:VEVENT
DTSTART;TZID=UTC:20250412T170000
DTEND;TZID=UTC:20250412T190000
DTSTAMP:20260420T050350
CREATED:20250225T020430Z
LAST-MODIFIED:20250225T020726Z
UID:12983-1744477200-1744484400@learningandfamilies.org
SUMMARY:Daddy Daughter Dance
DESCRIPTION:You’re Invited to an Enchanted Evening!Daddy Daughter DanceJoin us for a whimsical night of dancing and fun at Learning and Families 1st Daddy Daughter Dance at our new location in Bradenton!Date: Saturday\, April 12thTime: 5:00 – 7:00 PMLocation: Bethel Church – In the Gym1805 30th Ave W\, Bradenton\, FL 34205Cost: Daddy Ticket: $20.00 Link to daddy ticket: Daddy Daughter Dance – Daddy Ticket – Homeschooling          Daughter Ticket: $10.00 Link to daughter ticket: Daddy Daughter Dance – Daughter Ticket – Homeschooling \nThis event is open to ALL AGES! Buy your tickets now and invite your LAF friends to go with you!Enjoy a DJ spinning your favorite songs\, endless dancing\, and delicious refreshments. It’s a night to celebrate the special bond between fathers and daughters. We can’t wait to see you there!
URL:https://learningandfamilies.org/event/father-daughter-dance/
LOCATION:FL
CATEGORIES:Co-op
END:VEVENT
BEGIN:VEVENT
DTSTART;VALUE=DATE:20250317
DTEND;VALUE=DATE:20250322
DTSTAMP:20260420T050350
CREATED:20250114T185552Z
LAST-MODIFIED:20250114T185552Z
UID:12741-1742169600-1742601599@learningandfamilies.org
SUMMARY:Spring Break
DESCRIPTION:“Ask the Lord for rain in the springtime; it is the Lord who sends the thunderstorms.  He gives showers of rain to all people\, and plants of the fields to everyone”. \nZechariah 10:1
URL:https://learningandfamilies.org/event/spring-break-3/
LOCATION:FL
CATEGORIES:Co-op
END:VEVENT
BEGIN:VEVENT
DTSTART;TZID=UTC:20250313T183000
DTEND;TZID=UTC:20250313T210000
DTSTAMP:20260420T050350
CREATED:20250218T152833Z
LAST-MODIFIED:20250218T154541Z
UID:12927-1741890600-1741899600@learningandfamilies.org
SUMMARY:MNO at The Makery
DESCRIPTION:Moms’ Night out at The Makery \nTime: 6:30PM-9PM \nLocation: 821 Apricot Ave\, Suite 3 Sarasota\, FL 34237 \nBring a snack or drink if you want
URL:https://learningandfamilies.org/event/mno-at-the-makery/
LOCATION:FL
CATEGORIES:Co-op
END:VEVENT
BEGIN:VEVENT
DTSTART;TZID=UTC:20250313T130000
DTEND;TZID=UTC:20250313T143000
DTSTAMP:20260420T050350
CREATED:20250218T155628Z
LAST-MODIFIED:20250218T155628Z
UID:12930-1741870800-1741876200@learningandfamilies.org
SUMMARY:Egg Drop Challenge
DESCRIPTION:Egg Drop Challenge all ages.  Location is the westside of the co-op building. \nPre-School-5th grade 1:00-1:30PM \nMiddle & High School 2:15-2:45
URL:https://learningandfamilies.org/event/egg-drop-challenge-3/
LOCATION:FL
CATEGORIES:Co-op
END:VEVENT
BEGIN:VEVENT
DTSTART;TZID=UTC:20250313T080000
DTEND;TZID=UTC:20250313T150000
DTSTAMP:20260420T050350
CREATED:20250128T182146Z
LAST-MODIFIED:20250219T014922Z
UID:12848-1741852800-1741878000@learningandfamilies.org
SUMMARY:Spirit Day
DESCRIPTION:Come to co-op dressed like a friend (Twin).  Nothing is better than doing things together.
URL:https://learningandfamilies.org/event/spirit-day-twin-day/2025-03-13/
LOCATION:FL
CATEGORIES:Co-op
END:VEVENT
BEGIN:VEVENT
DTSTART;TZID=UTC:20250312T113000
DTEND;TZID=UTC:20250312T123000
DTSTAMP:20260420T050350
CREATED:20250304T184228Z
LAST-MODIFIED:20250304T184228Z
UID:13005-1741779000-1741782600@learningandfamilies.org
SUMMARY:McIntosh Livestock Program Event
DESCRIPTION:Come enjoy some time out on the farm! Visit\, cows\, pigs and chickens! You’ll get a tour of the farm\, learn about the programs offered. Take a wagon ride to explore our ecosystems and the relationships between agriculture and the environment\n\nParents or Chaperone MUST be present the entire time.\n\nDate: March 12\, 2025\nTime: 11:30AM (please arrive by 11:15\, so we can enter as a group).\nPrice: Is FREE (But I was wanting to collect any donations for the students to be split for the animals feed and care. So pleaseif you can bring a donation but not required).\n\nLocation: McIntosh Middle School                   701 Mclntosh Rd\, Sarasota FL\, 34232\nParking: The farm is located out in front of McIntosh Middle School. You will turn into the first shell parking lot and park. We will all be escorted through the gate as a group\, so please arrive on time.
URL:https://learningandfamilies.org/event/mcintosh-livestock-program-event/
LOCATION:FL
CATEGORIES:Co-op
END:VEVENT
BEGIN:VEVENT
DTSTART;TZID=UTC:20250311T080000
DTEND;TZID=UTC:20250311T150000
DTSTAMP:20260420T050350
CREATED:20250128T182146Z
LAST-MODIFIED:20250219T014922Z
UID:12841-1741680000-1741705200@learningandfamilies.org
SUMMARY:Spirit Day
DESCRIPTION:Come to co-op dressed like a friend (Twin).  Nothing is better than doing things together.
URL:https://learningandfamilies.org/event/spirit-day-twin-day/2025-03-11/
LOCATION:FL
CATEGORIES:Co-op
END:VEVENT
BEGIN:VEVENT
DTSTART;TZID=UTC:20250307T110000
DTEND;TZID=UTC:20250307T130000
DTSTAMP:20260420T050350
CREATED:20250128T180529Z
LAST-MODIFIED:20250128T180529Z
UID:12839-1741345200-1741352400@learningandfamilies.org
SUMMARY:Sub Zero - Nitrogen
DESCRIPTION:Date: March 7th\, 2025Time: 11:00AM-1PM (PLEASE arrive at 10:45 so demonstration can start on time).Price- $6.00 per person attending. 3 and under free. (Once Paid please list how many paid and if any 3 and under are attending).Location: 4065 Clark Rd. Sarasota\, FL 34233\nIf you missed our first field trip to Sub Zero you want to make sure you grab your tickets fast. Kids had so much fun and such a great educational experience.\nYou can purchase ice cream after the presentation but not required. *Possible allergy or dietary restrictions: nondairy and sugar free options available upon request.\nParking is located in the plaza.\nAll participates Must wear LAF green field trip shirt.\nParent or Chaperone MUST be present the entire Field Trip. Students cannot be dropped off.\nAll Sales are Final- There are NO REFUNDS. Unless trip is canceled due to weather or not meeting the minimum number participate requirements. \nTicket Link:\nhttps://learningandfamilies.org/product/sub-zero-field-trip/
URL:https://learningandfamilies.org/event/sub-zero-nitrogen/
LOCATION:FL
CATEGORIES:Co-op
END:VEVENT
BEGIN:VEVENT
DTSTART;TZID=UTC:20250305T094500
DTEND;TZID=UTC:20250305T130000
DTSTAMP:20260420T050350
CREATED:20250204T141927Z
LAST-MODIFIED:20250204T143300Z
UID:12857-1741167900-1741179600@learningandfamilies.org
SUMMARY:TreeUmph MS/HS
DESCRIPTION:Middle School & High School March Activity\nEach month TreeUmph offers a Homeschool day at 25% off the ticket price. Please click going and post in the thread with the ages of the students who want to participate. The courses are for ages 5 and up now. Younger siblings can participate as long as they are 5 years or older and a parent is present the entire time. The prices are below.\nAdventure ticket – $51.75 with taxes and feesFor climbers who can reach 5ft\, 9 inches. Provides 3 hours of climb time access to all courses\, including the Beginner to Extreme Summit Course\, and the giant TriUmph Zipline. Climb time on courses is 3 hrs. Safety training typically takes 30 minutes prior to climbing.Children’s Ape Up course – ages 5-8 -$22.50For climbers 5-8. Provides access to the Ape Up course for 1.5 hours.\nAll students under the age of 16 MUST be accompanied by an adult at all times.\nTo buy tickets go to https://www.treeumph.com/tickets\nClick Book Now and select the March 5th date and 10:00am or 10:30 am time slot if all the 10:00 are filled.Select the number of tickets for the ages you want to buy for.Select Reserve and then continue to checkoutClick on Apply Promo Code and enter code HOMESCHOOL for the discount.After you purchase the tickets it will allow you to fill out the Release Form online so you will be all set when we arrive on March 5th at 9:45.Please purchase your tickets no later than March 4th to make sure you can be in our groupLet me know if you have any questions!!
URL:https://learningandfamilies.org/event/treeumph-ms-hs/
LOCATION:FL
CATEGORIES:Middle and High School Co-op
END:VEVENT
BEGIN:VEVENT
DTSTART;VALUE=DATE:20250220
DTEND;VALUE=DATE:20250221
DTSTAMP:20260420T050350
CREATED:20250114T191313Z
LAST-MODIFIED:20250114T191338Z
UID:12748-1740009600-1740095999@learningandfamilies.org
SUMMARY:Spirit Day
DESCRIPTION:You won’t want to miss this\, Spirit Day! Come dressed up in your favorite clothes from any past decade.
URL:https://learningandfamilies.org/event/spirit-day/
LOCATION:FL
CATEGORIES:Co-op
END:VEVENT
BEGIN:VEVENT
DTSTART;VALUE=DATE:20250218
DTEND;VALUE=DATE:20250219
DTSTAMP:20260420T050350
CREATED:20250114T191531Z
LAST-MODIFIED:20250114T191531Z
UID:12751-1739836800-1739923199@learningandfamilies.org
SUMMARY:Spirit Day
DESCRIPTION:You won’t want to miss this\, Spirit Day! Come dressed up in your favorite clothes from any past decade.
URL:https://learningandfamilies.org/event/spirit-day-2/
LOCATION:FL
CATEGORIES:Co-op
END:VEVENT
BEGIN:VEVENT
DTSTART;TZID=UTC:20250214T130000
DTEND;TZID=UTC:20250214T150000
DTSTAMP:20260420T050350
CREATED:20250114T190256Z
LAST-MODIFIED:20250114T190256Z
UID:12745-1739538000-1739545200@learningandfamilies.org
SUMMARY:Valentines Exchange
DESCRIPTION:
URL:https://learningandfamilies.org/event/valentines-exchange-2/
LOCATION:Colonial Oaks Park\, 5300 Colonial Oaks Blvd\, Sarasota\, FL\, 34232\, United States
CATEGORIES:Co-op
END:VEVENT
BEGIN:VEVENT
DTSTART;TZID=UTC:20250212T100000
DTEND;TZID=UTC:20250212T130000
DTSTAMP:20260420T050350
CREATED:20250204T140249Z
LAST-MODIFIED:20250204T140249Z
UID:12854-1739354400-1739365200@learningandfamilies.org
SUMMARY:Children's Garden Meetup
DESCRIPTION:Hi everyone! I am going to host a play date/meet up for The Children’s Garden. This is not a field trip\, so it is not required to wear the field trip shirt. You will pay at the counter upon arrival. Here are the prices:\nAdults and Teens 13 years & up: $10 + taxSeniors 60+ years and Military: $9 + taxChildren 3 years & up: $6 + taxInfants and toddlers 2 & under visit for free!\nThe Childrens Garden & Art Center is a non-profit kid-focused greenspace that combines playground structures & plenty of places to explore in an outdoor setup. This is all outdoor so wear appropriate clothing per the weather.\nParking is across the street in a small fenced area under the trees. There is also parking along the road if needed.\nWe will be there from 10am-1pm. The address is 1670 10th Way\, Sarasota\, FL 34236\nThere are picnic tables on site\, so pack a lunch and come hang out while our kids explore and play!
URL:https://learningandfamilies.org/event/childrens-garden-meetup/
LOCATION:FL
CATEGORIES:Co-op
END:VEVENT
BEGIN:VEVENT
DTSTART;TZID=UTC:20250212T100000
DTEND;TZID=UTC:20250212T120000
DTSTAMP:20260420T050350
CREATED:20250128T165126Z
LAST-MODIFIED:20250128T165350Z
UID:12832-1739354400-1739361600@learningandfamilies.org
SUMMARY:MS/HS -SCF Drones\, Coding\, and Spike Prime
DESCRIPTION:This is a wonderful opportunity for our Middle and High students to check out State College of Florida (SCF) and learn about Drones and Glowforge Keychains as well as take a personal tour of the Campus.Date: Wednesday\, Feb 12thTime: 10:00-12:00Location: SCF Bradenton – Building 8 -26 West Center- park in lot HCost: $10 per student – Must pay on the shop to hold spotAll students will learn to laser cut on the Glowforge machine and make a keychain.\nStudent Learning Objectives:1. Drone Operation Fundamentals Students will understand the basic principles of drone operation\, including controls\, safety protocols\, and flight maneuvers.2. Introduction to Laser Cutting Technology Understand how laser cutting works and the technology behind a Glowforge machine.3. Exploration of Technology Careers Students will gain insights into various technology and engineering careers\, including educational requirements and job responsibilities.4. Teamwork and Communication Enhancement Students will develop and practice effective teamwork and communication skills during group activities and discussions.5. Stimulating Interest in STEM Fields Students will foster a greater interest and curiosity in STEM fields through hands-on experiences with technology and engineering concepts.\n\nSign up with this linkhttps://learningandfamilies.org/…/ms-hs-drones…/
URL:https://learningandfamilies.org/event/12832/
LOCATION:FL
CATEGORIES:Middle and High School Co-op
END:VEVENT
BEGIN:VEVENT
DTSTART;TZID=UTC:20250205T100000
DTEND;TZID=UTC:20250205T120000
DTSTAMP:20260420T050350
CREATED:20250114T183435Z
LAST-MODIFIED:20250114T183435Z
UID:12739-1738749600-1738756800@learningandfamilies.org
SUMMARY:Arts A Blaze Field Trip
DESCRIPTION:Let go get our creativity juices flowing. Join us at Arts A Blaze for a pick your own pottery to paint. Price will depend on what you pick to paint\, and you will pay in studio. We will need to keep a running total of all who are attending as space is limited. Please make sure you post how many will be painting.\nAll Participants must wear the LAF green field trip shirt.\nParents and Chaperones MUST be present the entire Field Trip. This is NOT a drop off.
URL:https://learningandfamilies.org/event/arts-a-blaze-field-trip/
LOCATION:Arts A Blaze Studio\, 8111 Lakewood Main St\, Ste 107\, Lakewood Ranch\, FL\, 34202\, United States
CATEGORIES:Co-op,Field Trip
END:VEVENT
BEGIN:VEVENT
DTSTART;VALUE=DATE:20250131
DTEND;VALUE=DATE:20250201
DTSTAMP:20260420T050350
CREATED:20250114T181639Z
LAST-MODIFIED:20250114T181653Z
UID:12735-1738281600-1738367999@learningandfamilies.org
SUMMARY:Sea World Field Trip
DESCRIPTION:DEEPLY DISCOUNTED SeaWorld Tickets sale EXTENDED!!!\n\n\nPurchase prices as follows:\n\n\nPurchased by 1/17/25\n\n\nGrades K – 12: $51\n\n\nAdults 19+: $53\n\n\nPurchased by 1/23/25\n\n\nGrades K – 12: $56\n\n\nAdults 19+: $58\n\n\nSeaWorld Field Trip Tickets are available on the LAF website. https://learningandfamilies.org/seaworld-field-trip/\n\n\nDon’t miss out on this AMAZING LAF Field Trip Special! Each year about 200 people represent LAF on this trip. It’s a great way for the kids to build memories and bond with other LAF families.\n\n\nBring your extended family and friends. This is an incredible price and a great Christmas gift for the entire family.\n\n\n\nDate of trip:\n\n\nFriday\, January 31\, 2025\n\n\nClick link below for details.\n\n\n\nhttps://learningandfamilies.org/seaworld-field-trip/
URL:https://learningandfamilies.org/event/sea-world-field-trip/
LOCATION:FL
CATEGORIES:Co-op,Field Trip
END:VEVENT
END:VCALENDAR