BEGIN:VCALENDAR
VERSION:2.0
PRODID:-//Homeschooling - ECPv6.2.3//NONSGML v1.0//EN
CALSCALE:GREGORIAN
METHOD:PUBLISH
X-WR-CALNAME:Homeschooling
X-ORIGINAL-URL:https://learningandfamilies.org
X-WR-CALDESC:Events for Homeschooling
REFRESH-INTERVAL;VALUE=DURATION:PT1H
X-Robots-Tag:noindex
X-PUBLISHED-TTL:PT1H
BEGIN:VTIMEZONE
TZID:UTC
BEGIN:STANDARD
TZOFFSETFROM:+0000
TZOFFSETTO:+0000
TZNAME:UTC
DTSTART:20250101T000000
END:STANDARD
END:VTIMEZONE
BEGIN:VEVENT
DTSTART;TZID=UTC:20251104T100000
DTEND;TZID=UTC:20251104T120000
DTSTAMP:20260420T184046
CREATED:20251002T134202Z
LAST-MODIFIED:20251002T134202Z
UID:15581-1762250400-1762257600@learningandfamilies.org
SUMMARY:Make Up Picture Day
DESCRIPTION:
URL:https://learningandfamilies.org/event/make-up-picture-day-2/
LOCATION:Bethel Church\, 1805 30th Ave W\,\, FL\, Bradenton\, FL\, 34205\, United States
CATEGORIES:Co-op,Junior Co-op,Middle and High School Co-op
END:VEVENT
BEGIN:VEVENT
DTSTART;TZID=UTC:20251107T183000
DTEND;TZID=UTC:20251107T200000
DTSTAMP:20260420T184046
CREATED:20250831T144647Z
LAST-MODIFIED:20250831T144647Z
UID:15470-1762540200-1762545600@learningandfamilies.org
SUMMARY:Teen Night At Fish Hole LWR
DESCRIPTION:Teens come out and enjoy a fun night of putt-putt. Make sure to have $10 for the event and extra for a treat\, such as ice cream or coffee\, after! Parents feel free to stay or drop off\, some of us will be meeting for dinner beforehand if you want to join!
URL:https://learningandfamilies.org/event/teen-night-at-fish-hole-lwr/
LOCATION:The Fish Hole at Lakewood Ranch\, 10725 Rodeo Drive\, Bradenton\, FL\, 34202\, United States
CATEGORIES:High School,Middle and High School Co-op,Middle School,Small Groups
END:VEVENT
BEGIN:VEVENT
DTSTART;TZID=UTC:20251205T100000
DTEND;TZID=UTC:20251205T140000
DTSTAMP:20260420T184046
CREATED:20250930T181909Z
LAST-MODIFIED:20250930T181909Z
UID:15566-1764928800-1764943200@learningandfamilies.org
SUMMARY:Field Day
DESCRIPTION:🏃‍♂️🎉 Mark your calendars!Field Day – Friday\, December 5th | 10 AM–2 PMA day full of games\, fun\, and friendly competition! 🏅👉 More details coming soon!
URL:https://learningandfamilies.org/event/field-day-2/
LOCATION:Bethel Church\, 1805 30th Ave W\,\, FL\, Bradenton\, FL\, 34205\, United States
CATEGORIES:Co-op,Junior Co-op,Middle and High School Co-op,Special Events
END:VEVENT
BEGIN:VEVENT
DTSTART;TZID=UTC:20251208T100000
DTEND;TZID=UTC:20251208T120000
DTSTAMP:20260420T184046
CREATED:20250930T183446Z
LAST-MODIFIED:20250930T183446Z
UID:15570-1765188000-1765195200@learningandfamilies.org
SUMMARY:Ice Skating with LAF
DESCRIPTION:❄️⛸️ Indoor Ice Skating! ⛸️❄️ \nGlide into the holiday spirit with festive fun for all ages!📅 Monday\, December 8th🕙 10:00 AM – 12:00 PM💲 $15.00 per skater  \nBring your family for a joyful morning on the ice 🎄✨
URL:https://learningandfamilies.org/event/ice-skating-with-laf/
LOCATION:Ellenton Ice and Sports Complex\, 5309 29th St E.\, Ellenton\, FL 34222\, FL\, 34222\, United States
CATEGORIES:Co-op,Field Trip,Junior Co-op,Middle and High School Co-op,Special Events
END:VEVENT
BEGIN:VEVENT
DTSTART;TZID=UTC:20251214T180000
DTEND;TZID=UTC:20251214T203000
DTSTAMP:20260420T184046
CREATED:20250930T173428Z
LAST-MODIFIED:20251202T021052Z
UID:15555-1765735200-1765744200@learningandfamilies.org
SUMMARY:Middle/High Christmas Party
DESCRIPTION:🎄✨ Middle/High Christmas Party! ✨🎄Join us for an evening full of Christmas games\, gift exchange\, yummy food & holiday fun! 🎁🍕🍪 \n📅 Date: 12/14⏰ Time: 6:00 PM – 8:30 PM \nMeeting in the Canopy building \nBring your holiday cheer – you won’t want to miss it! 🎅❄️
URL:https://learningandfamilies.org/event/middle-high-christmas-party/
LOCATION:Bethel Church\, 1805 30th Ave W\,\, FL\, Bradenton\, FL\, 34205\, United States
CATEGORIES:Co-op,High School,Middle and High School Co-op,Middle School
END:VEVENT
BEGIN:VEVENT
DTSTART;TZID=UTC:20260114T110000
DTEND;TZID=UTC:20260114T170000
DTSTAMP:20260420T184046
CREATED:20250930T191408Z
LAST-MODIFIED:20250930T191408Z
UID:15577-1768388400-1768410000@learningandfamilies.org
SUMMARY:Big Cat Habitat Field Trip
DESCRIPTION:🐾 Field Trip to Big Cat Habitat!📅 January 14 | 🕚 11:00 AM📍 7101 Palmer Blvd\, Sarasota\, FL 34240 \n🎟 Tickets in the shop: \n\n\n$9 (8th grade & under) \n\n\n$16 (9th grade & up) \n\n\nCome explore Big Cat Habitat & meet amazing animals while learning about wildlife and conservation! \n👉 RSVP soon to save your spot! \nbigcathabitat.org
URL:https://learningandfamilies.org/event/big-cat-habitat-field-trip/
LOCATION:Big Cat Habitat\, 7101 Palmer Blvd\, Sarasota\, FL\, 34240\, United States
CATEGORIES:Co-op,Field Trip,Junior Co-op,Middle and High School Co-op,Special Events
END:VEVENT
BEGIN:VEVENT
DTSTART;TZID=UTC:20260122T091500
DTEND;TZID=UTC:20260122T111500
DTSTAMP:20260420T184046
CREATED:20251204T164949Z
LAST-MODIFIED:20251204T164949Z
UID:15709-1769073300-1769080500@learningandfamilies.org
SUMMARY:Yearbook Picture Retakes
DESCRIPTION: Picture Retakes\, Don’t Miss Out!Did you miss the two picture days this fall? No worries — Picture Retake Day is here!\n Thursday\, January 22nd 9:15–11:15 AM In the Gym at Co-op\nOur photography teacher\, Mr. Charles\, and his High School Photography class will be taking photos to be used in this year’s Yearbook. This is your chance to make sure you are included!Come by\, smile big\, and we’ll see you there! We want your picture in the Yearbook! 
URL:https://learningandfamilies.org/event/yearbook-picture-retakes/
LOCATION:Bethel Church\, 1805 30th Ave W\,\, FL\, Bradenton\, FL\, 34205\, United States
CATEGORIES:Co-op,Junior Co-op,Middle and High School Co-op
END:VEVENT
BEGIN:VEVENT
DTSTART;TZID=UTC:20260123T100000
DTEND;TZID=UTC:20260123T113000
DTSTAMP:20260420T184046
CREATED:20251002T141829Z
LAST-MODIFIED:20251002T141829Z
UID:15585-1769162400-1769167800@learningandfamilies.org
SUMMARY:Bowling At Bowlero Bradenton
DESCRIPTION:🎳 Bowling Fun for All Ages! 🎳 \nJoin us at Bowlero Bradenton📍 4208 Cortez Rd W\, Bradenton\, FL 34210📅 Thursday\, January 23rd at 10:00 AM \nOnly $11 per bowler – includes:✨ 1.5 hours of bowling👟 Shoe rental🎮 $10 arcade card \nDon’t miss out—buy tickets in the shop on our website & RSVP under Facebook events! \nPerfect family fun day—see you at the lanes! 🎉
URL:https://learningandfamilies.org/event/bowling-at-bowlero-bradenton/
LOCATION:Bowlero Bradenton\, 4208 Cortez Rd W\,\, Bradenton\, FL\, 34210\, United States
CATEGORIES:Co-op,Field Trip,Junior Co-op,Middle and High School Co-op,Special Events
END:VEVENT
END:VCALENDAR