BEGIN:VCALENDAR
VERSION:2.0
PRODID:-//Homeschooling - ECPv6.2.3//NONSGML v1.0//EN
CALSCALE:GREGORIAN
METHOD:PUBLISH
X-WR-CALNAME:Homeschooling
X-ORIGINAL-URL:https://learningandfamilies.org
X-WR-CALDESC:Events for Homeschooling
REFRESH-INTERVAL;VALUE=DURATION:PT1H
X-Robots-Tag:noindex
X-PUBLISHED-TTL:PT1H
BEGIN:VTIMEZONE
TZID:UTC
BEGIN:STANDARD
TZOFFSETFROM:+0000
TZOFFSETTO:+0000
TZNAME:UTC
DTSTART:20240101T000000
END:STANDARD
END:VTIMEZONE
BEGIN:VEVENT
DTSTART;TZID=UTC:20240305T130000
DTEND;TZID=UTC:20240305T144500
DTSTAMP:20260422T001145
CREATED:20240213T035511Z
LAST-MODIFIED:20240213T035511Z
UID:10447-1709643600-1709649900@learningandfamilies.org
SUMMARY:Egg Drop Challenge
DESCRIPTION:Don’t miss our annual Egg Drop Challenge! \nLAF students of ALL AGES are challenged to design a system to protect a raw egg from cracking or breaking from a high fall. You can use any materials that you like to protect your egg so it will SURVIVE the fall!\nThere will be a participation prize for all contestants and special prizes for most creative\, best design\, most unusual material used and many other categories!
URL:https://learningandfamilies.org/event/egg-drop-challenge/
LOCATION:Renewal Church\, 7221 Bee Ridge Road\, Sarasota\, 34241\, United States
CATEGORIES:Co-op,Junior Co-op,Middle and High School Co-op
END:VEVENT
END:VCALENDAR