BEGIN:VCALENDAR
VERSION:2.0
PRODID:-//Homeschooling - ECPv6.2.3//NONSGML v1.0//EN
CALSCALE:GREGORIAN
METHOD:PUBLISH
X-ORIGINAL-URL:https://learningandfamilies.org
X-WR-CALDESC:Events for Homeschooling
REFRESH-INTERVAL;VALUE=DURATION:PT1H
X-Robots-Tag:noindex
X-PUBLISHED-TTL:PT1H
BEGIN:VTIMEZONE
TZID:America/New_York
BEGIN:DAYLIGHT
TZOFFSETFROM:-0500
TZOFFSETTO:-0400
TZNAME:EDT
DTSTART:20240310T070000
END:DAYLIGHT
BEGIN:STANDARD
TZOFFSETFROM:-0400
TZOFFSETTO:-0500
TZNAME:EST
DTSTART:20241103T060000
END:STANDARD
END:VTIMEZONE
BEGIN:VEVENT
DTSTART;TZID=America/New_York:20240918T183000
DTEND;TZID=America/New_York:20240918T193000
DTSTAMP:20260421T140459
CREATED:20240917T173554Z
LAST-MODIFIED:20240917T173554Z
UID:12281-1726684200-1726687800@learningandfamilies.org
SUMMARY:Mini Golf Mixer
DESCRIPTION:Middle School and High School students are invited to kick off the school year with a fun night of Mini Golf.\nGroup discounted admission is $9 pp due at the door.\nPlease indicate you are coming and comment with name and age of students
URL:https://learningandfamilies.org/event/mini-golf-mixer/
LOCATION:The Fish Hole at Lakewood Ranch\, 10725 Rodeo Drive\, Bradenton\, FL\, 34202\, United States
CATEGORIES:Middle and High School Co-op
END:VEVENT
END:VCALENDAR