BEGIN:VCALENDAR
VERSION:2.0
PRODID:-//Homeschooling - ECPv6.2.3//NONSGML v1.0//EN
CALSCALE:GREGORIAN
METHOD:PUBLISH
X-ORIGINAL-URL:https://learningandfamilies.org
X-WR-CALDESC:Events for Homeschooling
REFRESH-INTERVAL;VALUE=DURATION:PT1H
X-Robots-Tag:noindex
X-PUBLISHED-TTL:PT1H
BEGIN:VTIMEZONE
TZID:UTC
BEGIN:STANDARD
TZOFFSETFROM:+0000
TZOFFSETTO:+0000
TZNAME:UTC
DTSTART:20240101T000000
END:STANDARD
END:VTIMEZONE
BEGIN:VEVENT
DTSTART;TZID=UTC:20240115T170000
DTEND;TZID=UTC:20240115T190000
DTSTAMP:20260422T015334
CREATED:20231224T055029Z
LAST-MODIFIED:20231224T055029Z
UID:10305-1705338000-1705345200@learningandfamilies.org
SUMMARY:Afternoon with Horses
DESCRIPTION:Come spend the afternoon learning to halter\, walk\, and brush these beautiful horses. Kids will learn horse etiquette and will also have the opportunity to paint the horses. If there is time\, we will also enjoy a campfire and s’mores!
URL:https://learningandfamilies.org/event/afternoon-with-horses/
LOCATION:FL
CATEGORIES:Co-op,Field Trip,Junior Co-op,Middle and High School Co-op
END:VEVENT
BEGIN:VEVENT
DTSTART;TZID=UTC:20240123T090000
DTEND;TZID=UTC:20240123T150000
DTSTAMP:20260422T015334
CREATED:20231215T044931Z
LAST-MODIFIED:20231215T044931Z
UID:10294-1706000400-1706022000@learningandfamilies.org
SUMMARY:Spirit Week 80's Day
DESCRIPTION:Show your LAF spirit by dressing up in any 80’s inspired outfit! Think acid-washed jeans\, big hair\, bright neons\, scrunchies and more! Let’s see what you’ve got!
URL:https://learningandfamilies.org/event/spirit-week-80s-day/2024-01-23/
LOCATION:Renewal Church\, 7221 Bee Ridge Road\, Sarasota\, 34241\, United States
CATEGORIES:Co-op,Junior Co-op,Middle and High School Co-op
END:VEVENT
END:VCALENDAR