BEGIN:VCALENDAR
VERSION:2.0
PRODID:-//Homeschooling - ECPv6.2.3//NONSGML v1.0//EN
CALSCALE:GREGORIAN
METHOD:PUBLISH
X-WR-CALNAME:Homeschooling
X-ORIGINAL-URL:https://learningandfamilies.org
X-WR-CALDESC:Events for Homeschooling
REFRESH-INTERVAL;VALUE=DURATION:PT1H
X-Robots-Tag:noindex
X-PUBLISHED-TTL:PT1H
BEGIN:VTIMEZONE
TZID:UTC
BEGIN:STANDARD
TZOFFSETFROM:+0000
TZOFFSETTO:+0000
TZNAME:UTC
DTSTART:20220101T000000
END:STANDARD
END:VTIMEZONE
BEGIN:VEVENT
DTSTART;TZID=UTC:20220808T180000
DTEND;TZID=UTC:20220808T203000
DTSTAMP:20260420T014712
CREATED:20220724T012136Z
LAST-MODIFIED:20220724T012136Z
UID:6786-1659981600-1659990600@learningandfamilies.org
SUMMARY:Co-op Parent Orientation
DESCRIPTION:At least one parent is required to attend the LAF Co-op orientation. Here you will meet the leadership of Learning and Families\, hand in important paperwork\, pay any remaining balances\, and learn what you can expect in the coming year. Junior Co-op parents will also receive training for their assigned Service Roles. \nYou will receive an email prior to the orientation with any paperwork that needs to be filled out and submitted\, along with detailed instructions on how to prepare for orientation and what to expect.
URL:https://learningandfamilies.org/event/co-op-parent-orientation/
LOCATION:Renewal Church\, 7221 Bee Ridge Road\, Sarasota\, 34241\, United States
CATEGORIES:Co-op,Junior Co-op,Middle and High School Co-op
ATTACH;FMTTYPE=image/png:https://learningandfamilies.org/wp-content/uploads/2021/03/site-logo.png
END:VEVENT
BEGIN:VEVENT
DTSTART;TZID=UTC:20220816T083000
DTEND;TZID=UTC:20220816T145000
DTSTAMP:20260420T014712
CREATED:20220724T020038Z
LAST-MODIFIED:20220724T020038Z
UID:6819-1660638600-1660661400@learningandfamilies.org
SUMMARY:First Day of Middle/High School Co-op
DESCRIPTION:Middle/High School Co-op welcomes everyone to the 2022/23 School Year! \nFor any Co-op questions\, email coop@learningandfamilies.org.
URL:https://learningandfamilies.org/event/first-day-of-middle-high-school-co-op/
LOCATION:Renewal Church\, 7221 Bee Ridge Road\, Sarasota\, 34241\, United States
CATEGORIES:Middle and High School Co-op
ATTACH;FMTTYPE=image/jpeg:https://learningandfamilies.org/wp-content/uploads/2022/07/High-school-coop.jpeg
END:VEVENT
BEGIN:VEVENT
DTSTART;TZID=UTC:20220830T100000
DTEND;TZID=UTC:20220830T120000
DTSTAMP:20260420T014712
CREATED:20220724T012757Z
LAST-MODIFIED:20220724T012757Z
UID:6796-1661853600-1661860800@learningandfamilies.org
SUMMARY:Junior Co-op Practice Day
DESCRIPTION:Junior Co-op families will attend a Practice Day the week before Co-op starts so they can practice going to Co-op! \nJunior Co-op is a great way to enrich your homeschool journey\, but it can also overwhelm families when they first begin. The practice day will help families acclimate to Co-op and feel confident when they arrive on the first day. Even families who have participated for many years will benefit from meeting their new facilitators and pod parents. \nWe require all Junior Co-op families to attend the Practice Day. \nStudents will meet their facilitators and pod parents\, who will help them navigate Co-op. They will sit through a morning assembly\, practice walking up to their first class\, find out where to put their belongings\, and then practice transitioning to breaks and other classes. They can visit the bathrooms and water fountains so they feel more confident\, and they can practice getting picked up by a parent at the end of the day. \nThis entire day is much shorter than a typical Co-op day\, but it will give your Junior Co-op student confidence for the start of the year!
URL:https://learningandfamilies.org/event/junior-co-op-practice-day/
LOCATION:Renewal Church\, 7221 Bee Ridge Road\, Sarasota\, 34241\, United States
CATEGORIES:Junior Co-op
ATTACH;FMTTYPE=image/jpeg:https://learningandfamilies.org/wp-content/uploads/2021/03/K-3-Program.jpg
END:VEVENT
BEGIN:VEVENT
DTSTART;TZID=UTC:20220906T084500
DTEND;TZID=UTC:20220906T123000
DTSTAMP:20260420T014712
CREATED:20220724T014705Z
LAST-MODIFIED:20220724T020213Z
UID:6804-1662453900-1662467400@learningandfamilies.org
SUMMARY:First Day of Tuesday Junior Co-op
DESCRIPTION:Junior Co-op welcomes everyone to the 2022/23 School Year! Be sure to arrive on time. \nFirst \nFind the flying creature that represents each of your student’s classes in the gym\, and have your student sit with their backpacks under the sign for their flying creature. \n  \nNext \n\nIf you are a Pod Parent\, head over to the Support Table and check-in\, get the folder for your pod\, and then meet your pod at the sign of your class’s flying creature. Ask your students if they have memorized their Bible verse\, and check off the ones who did.\nIf you are a Classroom Assistant\, head up to your classroom to assist the facilitator with set up.\nAll other service positions\, head to the location of your position to get ready for the Co-op day\n\n  \nFor any Co-op questions\, email coop@learningandfamilies.org.
URL:https://learningandfamilies.org/event/first-day-of-junior-co-op/
LOCATION:Renewal Church\, 7221 Bee Ridge Road\, Sarasota\, 34241\, United States
CATEGORIES:Junior Co-op
ATTACH;FMTTYPE=image/jpeg:https://learningandfamilies.org/wp-content/uploads/2022/07/Junior-Co-op.jpeg
END:VEVENT
BEGIN:VEVENT
DTSTART;TZID=UTC:20220908T084500
DTEND;TZID=UTC:20220908T123000
DTSTAMP:20260420T014712
CREATED:20220724T014843Z
LAST-MODIFIED:20220724T020230Z
UID:6809-1662626700-1662640200@learningandfamilies.org
SUMMARY:First Day of Thursday Junior Co-op
DESCRIPTION:Junior Co-op welcomes everyone to the 2022/23 School Year! Be sure to arrive on time. \nFirst \nFind the flying creature that represents each of your student’s classes in the gym\, and have your student sit with their backpacks under the sign for their flying creature. \n  \nNext \n\nIf you are a Pod Parent\, head over to the Support Table and check-in\, get the folder for your pod\, and then meet your pod at the sign of your class’s flying creature. Ask your students if they have memorized their Bible verse\, and check off the ones who did.\nIf you are a Classroom Assistant\, head up to your classroom to assist the facilitator with set up.\nAll other service positions\, head to the location of your position to get ready for the Co-op day\n\n  \nFor any Co-op questions\, email coop@learningandfamilies.org.
URL:https://learningandfamilies.org/event/first-day-of-thursday-junior-co-op/
LOCATION:Renewal Church\, 7221 Bee Ridge Road\, Sarasota\, 34241\, United States
CATEGORIES:Junior Co-op
ATTACH;FMTTYPE=image/jpeg:https://learningandfamilies.org/wp-content/uploads/2022/07/Junior-Co-op.jpeg
END:VEVENT
BEGIN:VEVENT
DTSTART;TZID=UTC:20220920T083000
DTEND;TZID=UTC:20220920T150000
DTSTAMP:20260420T014712
CREATED:20220728T025708Z
LAST-MODIFIED:20220728T031858Z
UID:7119-1663662600-1663686000@learningandfamilies.org
SUMMARY:Co-op Spirit Day -- Crazy Socks and Crazy Hair
DESCRIPTION:This month\, wear your craziest socks and let your hair go WILD! \nLAF Spirit Day is the 3rd Tuesday and Thursday of the month\, excluding December and January. Everyone can participate (all ages)! \nHelp us make this the BEST LAF Co-op year yet!
URL:https://learningandfamilies.org/event/spirit-day-crazy-socks-and-crazy-hair/2022-09-20/
LOCATION:FL
CATEGORIES:Co-op
END:VEVENT
BEGIN:VEVENT
DTSTART;TZID=UTC:20221018T083000
DTEND;TZID=UTC:20221018T150000
DTSTAMP:20260420T014712
CREATED:20220728T030550Z
LAST-MODIFIED:20220728T031824Z
UID:7123-1666081800-1666105200@learningandfamilies.org
SUMMARY:Co-op Spirit Day -- Favorite Sports Team
DESCRIPTION:This month\, let your sports flag fly and represent your favorite team! \nLAF Spirit Day is the 3rd Tuesday and Thursday of the month\, excluding December and January. Everyone can participate (all ages)! \nHelp us make this the BEST LAF Co-op year yet!
URL:https://learningandfamilies.org/event/spirit-day-favorite-sports-team/2022-10-18/
LOCATION:FL
CATEGORIES:Co-op
END:VEVENT
BEGIN:VEVENT
DTSTART;TZID=UTC:20221115T083000
DTEND;TZID=UTC:20221115T150000
DTSTAMP:20260420T014712
CREATED:20220728T031354Z
LAST-MODIFIED:20220728T031748Z
UID:7127-1668501000-1668524400@learningandfamilies.org
SUMMARY:Co-op Spirit Day -- Pajama Day
DESCRIPTION:This month\, it’s wear your PJs to Co-op Day! \nLAF Spirit Day is the 3rd Tuesday and Thursday of the month\, excluding December and January. Everyone can participate (all ages)! \nHelp us make this the BEST LAF Co-op year yet!
URL:https://learningandfamilies.org/event/spirit-day-pajama-day/2022-11-15/
LOCATION:FL
CATEGORIES:Co-op
END:VEVENT
BEGIN:VEVENT
DTSTART;VALUE=DATE:20221122
DTEND;VALUE=DATE:20221123
DTSTAMP:20260420T014712
CREATED:20220724T021135Z
LAST-MODIFIED:20220724T021135Z
UID:6827-1669075200-1669161599@learningandfamilies.org
SUMMARY:Thanksgiving Break
DESCRIPTION:Co-op will be closed for Thanksgiving Break. We wish you a joyful celebration and a deep sense of gratitude. We are grateful for YOU!
URL:https://learningandfamilies.org/event/thanksgiving-break/
LOCATION:FL
CATEGORIES:Co-op,Junior Co-op,Middle and High School Co-op
ATTACH;FMTTYPE=image/jpeg:https://learningandfamilies.org/wp-content/uploads/2022/07/AdobeStock_292907397-scaled.jpeg
END:VEVENT
BEGIN:VEVENT
DTSTART;VALUE=DATE:20221124
DTEND;VALUE=DATE:20221125
DTSTAMP:20260420T014712
CREATED:20220724T021238Z
LAST-MODIFIED:20220724T021238Z
UID:6830-1669248000-1669334399@learningandfamilies.org
SUMMARY:Thanksgiving Break
DESCRIPTION:Co-op will be closed for Thanksgiving Break. We wish you a joyful celebration and a deep sense of gratitude. We are grateful for YOU!
URL:https://learningandfamilies.org/event/thanksgiving-break-2/
LOCATION:FL
CATEGORIES:Co-op,Junior Co-op,Middle and High School Co-op
ATTACH;FMTTYPE=image/jpeg:https://learningandfamilies.org/wp-content/uploads/2022/07/AdobeStock_292907397-scaled.jpeg
END:VEVENT
BEGIN:VEVENT
DTSTART;TZID=UTC:20221213T124500
DTEND;TZID=UTC:20221213T140000
DTSTAMP:20260420T014712
CREATED:20221110T180609Z
LAST-MODIFIED:20221110T181452Z
UID:7669-1670935500-1670940000@learningandfamilies.org
SUMMARY:Bible Bucks Store
DESCRIPTION:Our Junior Co-op students have worked hard all semester to memorize Bible verses and earn Bible Bucks in the process. Our Bible Bucks Store is a great way for the students to celebrate their hard work and spend those bucks. The store day will be held at Co-op on the WEST side of the building. If you have any questions\, email Allison Flagg at vicepresident@learningandfamilies.org.
URL:https://learningandfamilies.org/event/bible-bucks-store/2022-12-13/
LOCATION:Renewal Church\, 7221 Bee Ridge Road\, Sarasota\, 34241\, United States
CATEGORIES:Co-op,Junior Co-op
ATTACH;FMTTYPE=image/jpeg:https://learningandfamilies.org/wp-content/uploads/2022/11/AdobeStock_520241917-scaled.jpeg
END:VEVENT
BEGIN:VEVENT
DTSTART;VALUE=DATE:20221220
DTEND;VALUE=DATE:20221221
DTSTAMP:20260420T014712
CREATED:20220724T022116Z
LAST-MODIFIED:20220724T024629Z
UID:6842-1671494400-1671580799@learningandfamilies.org
SUMMARY:Christmas Break
DESCRIPTION:Co-op is closed for Christmas Break. Enjoy the festivities and give thanks to the Lord for the gift of eternal life through His Son\, Jesus Christ. We will see you in the new year!
URL:https://learningandfamilies.org/event/christmas-break-6/2022-12-20/
LOCATION:FL
CATEGORIES:Co-op,Junior Co-op,Middle and High School Co-op
ATTACH;FMTTYPE=image/jpeg:https://learningandfamilies.org/wp-content/uploads/2022/07/AdobeStock_292907397-scaled.jpeg
END:VEVENT
BEGIN:VEVENT
DTSTART;VALUE=DATE:20230221
DTEND;VALUE=DATE:20230222
DTSTAMP:20260420T014712
CREATED:20221110T183347Z
LAST-MODIFIED:20221110T184122Z
UID:7677-1676937600-1677023999@learningandfamilies.org
SUMMARY:Co-op Spirit Day — Decades Day
DESCRIPTION:This month\, it’s Decades Day! Choose from 60s\, 70s\, 80s\, or 90s\, and dress like you are a blast from the past! \nLAF Spirit Day is the 3rd Tuesday and Thursday of the month\, excluding December and January. Everyone can participate (all ages)! \nHelp us make this the BEST LAF Co-op year yet!
URL:https://learningandfamilies.org/event/co-op-spirit-day-decades-day/2023-02-21/
LOCATION:FL
CATEGORIES:Co-op,Junior Co-op,Middle and High School Co-op
END:VEVENT
BEGIN:VEVENT
DTSTART;VALUE=DATE:20230314
DTEND;VALUE=DATE:20230315
DTSTAMP:20260420T014712
CREATED:20220724T022256Z
LAST-MODIFIED:20220724T022256Z
UID:6844-1678752000-1678838399@learningandfamilies.org
SUMMARY:Spring Break
DESCRIPTION:LAF Co-op is closed for Spring Break. Enjoy this time of rest and be rejuvenated. We will see you next week!
URL:https://learningandfamilies.org/event/spring-break/
LOCATION:FL
CATEGORIES:Co-op,Junior Co-op,Middle and High School Co-op
ATTACH;FMTTYPE=image/jpeg:https://learningandfamilies.org/wp-content/uploads/2022/07/AdobeStock_292907397-scaled.jpeg
END:VEVENT
BEGIN:VEVENT
DTSTART;VALUE=DATE:20230316
DTEND;VALUE=DATE:20230317
DTSTAMP:20260420T014712
CREATED:20220724T022345Z
LAST-MODIFIED:20220724T022345Z
UID:6846-1678924800-1679011199@learningandfamilies.org
SUMMARY:Spring Break
DESCRIPTION:LAF Co-op is closed for Spring Break. Enjoy this time of rest and be rejuvenated. We will see you next week!
URL:https://learningandfamilies.org/event/spring-break-2/
LOCATION:FL
CATEGORIES:Co-op,Junior Co-op,Middle and High School Co-op
ATTACH;FMTTYPE=image/jpeg:https://learningandfamilies.org/wp-content/uploads/2022/07/AdobeStock_292907397-scaled.jpeg
END:VEVENT
BEGIN:VEVENT
DTSTART;VALUE=DATE:20230321
DTEND;VALUE=DATE:20230322
DTSTAMP:20260420T014712
CREATED:20221110T190847Z
LAST-MODIFIED:20221110T192025Z
UID:7696-1679356800-1679443199@learningandfamilies.org
SUMMARY:Co-op Spirit Day — Twin Day
DESCRIPTION:It’s Twin Day at LAF Co-op! Find a buddy and dress alike! \nLAF Spirit Day is the 3rd Tuesday and Thursday of the month\, excluding December and January. Everyone can participate (all ages)! \nHelp us make this the BEST LAF Co-op year yet!
URL:https://learningandfamilies.org/event/co-op-spirit-day-twin-day/2023-03-21/
LOCATION:FL
CATEGORIES:Co-op,Junior Co-op,Middle and High School Co-op
END:VEVENT
BEGIN:VEVENT
DTSTART;VALUE=DATE:20230418
DTEND;VALUE=DATE:20230419
DTSTAMP:20260420T014712
CREATED:20221110T190256Z
LAST-MODIFIED:20221110T190404Z
UID:7690-1681776000-1681862399@learningandfamilies.org
SUMMARY:Co-op Spirit Day — All One Color Day
DESCRIPTION:This month\, show your LAF spirit by wearing all one color! \nLAF Spirit Day is the 3rd Tuesday and Thursday of the month\, excluding December and January. Everyone can participate (all ages)! \nHelp us make this the BEST LAF Co-op year yet!
URL:https://learningandfamilies.org/event/co-op-spirit-day-all-one-color-day/2023-04-18/
LOCATION:FL
CATEGORIES:Co-op,Junior Co-op,Middle and High School Co-op
END:VEVENT
BEGIN:VEVENT
DTSTART;TZID=UTC:20230418T084500
DTEND;TZID=UTC:20230418T123000
DTSTAMP:20260420T014712
CREATED:20220724T015427Z
LAST-MODIFIED:20220724T015456Z
UID:6813-1681807500-1681821000@learningandfamilies.org
SUMMARY:Last Day of Tuesday Junior Co-op
DESCRIPTION:Thank you for another GREAT year at LAF! We hope to see you back in the fall. \nIf you have any questions over the summer\, feel free to reach out to info@learningandfamilies.org.
URL:https://learningandfamilies.org/event/last-day-of-tuesday-junior-co-op/
LOCATION:Renewal Church\, 7221 Bee Ridge Road\, Sarasota\, 34241\, United States
CATEGORIES:Junior Co-op
ATTACH;FMTTYPE=image/jpeg:https://learningandfamilies.org/wp-content/uploads/2022/07/AdobeStock_103554523-scaled.jpeg
END:VEVENT
BEGIN:VEVENT
DTSTART;TZID=UTC:20230420T084500
DTEND;TZID=UTC:20230420T123000
DTSTAMP:20260420T014712
CREATED:20220724T015553Z
LAST-MODIFIED:20220724T015553Z
UID:6817-1681980300-1681993800@learningandfamilies.org
SUMMARY:Last Day of Thursday Junior Co-op
DESCRIPTION:Thank you for another GREAT year at LAF! We hope to see you back in the fall. \nIf you have any questions over the summer\, feel free to reach out to info@learningandfamilies.org.
URL:https://learningandfamilies.org/event/last-day-of-thursday-junior-co-op/
LOCATION:Renewal Church\, 7221 Bee Ridge Road\, Sarasota\, 34241\, United States
CATEGORIES:Junior Co-op
ATTACH;FMTTYPE=image/jpeg:https://learningandfamilies.org/wp-content/uploads/2022/07/AdobeStock_103554523-scaled.jpeg
END:VEVENT
BEGIN:VEVENT
DTSTART;TZID=UTC:20230511T083000
DTEND;TZID=UTC:20230511T145000
DTSTAMP:20260420T014712
CREATED:20220724T020628Z
LAST-MODIFIED:20220724T020628Z
UID:6824-1683793800-1683816600@learningandfamilies.org
SUMMARY:Last day of Middle/High School Co-op
DESCRIPTION:Thank you for another GREAT year at LAF! We hope to see you back in the fall. \nIf you have any questions over the summer\, feel free to reach out to info@learningandfamilies.org.
URL:https://learningandfamilies.org/event/last-day-of-middle-high-school-co-op/
LOCATION:Renewal Church\, 7221 Bee Ridge Road\, Sarasota\, 34241\, United States
CATEGORIES:Middle and High School Co-op
ATTACH;FMTTYPE=image/jpeg:https://learningandfamilies.org/wp-content/uploads/2022/07/AdobeStock_75583208-scaled.jpeg
END:VEVENT
BEGIN:VEVENT
DTSTART;TZID=UTC:20231005T090000
DTEND;TZID=UTC:20231005T130000
DTSTAMP:20260420T014712
CREATED:20230817T180012Z
LAST-MODIFIED:20230818T181128Z
UID:9429-1696496400-1696510800@learningandfamilies.org
SUMMARY:School Picture Day
DESCRIPTION:When: October 5th\, 9am – 1pm\nWhere: In the Gym at Co-op \nGet those smiles ready! It’s school picture day! This is open to ALL LAF families. We want your picture in the Yearbook so mark the date! Please go on your parent portal now and verify that your student’s grade is correct.
URL:https://learningandfamilies.org/event/school-picture-day/
LOCATION:Renewal Church\, 7221 Bee Ridge Road\, Sarasota\, 34241\, United States
CATEGORIES:Co-op,Junior Co-op,Middle and High School Co-op
END:VEVENT
BEGIN:VEVENT
DTSTART;TZID=UTC:20240115T170000
DTEND;TZID=UTC:20240115T190000
DTSTAMP:20260420T014712
CREATED:20231224T055029Z
LAST-MODIFIED:20231224T055029Z
UID:10305-1705338000-1705345200@learningandfamilies.org
SUMMARY:Afternoon with Horses
DESCRIPTION:Come spend the afternoon learning to halter\, walk\, and brush these beautiful horses. Kids will learn horse etiquette and will also have the opportunity to paint the horses. If there is time\, we will also enjoy a campfire and s’mores!
URL:https://learningandfamilies.org/event/afternoon-with-horses/
LOCATION:FL
CATEGORIES:Co-op,Field Trip,Junior Co-op,Middle and High School Co-op
END:VEVENT
BEGIN:VEVENT
DTSTART;TZID=UTC:20240123T090000
DTEND;TZID=UTC:20240123T120000
DTSTAMP:20260420T014712
CREATED:20231206T080030Z
LAST-MODIFIED:20231207T185107Z
UID:10273-1706000400-1706011200@learningandfamilies.org
SUMMARY:Makeup Picture Day
DESCRIPTION:Make up Picture Day is Tuesday January 23rd at Co-op from 9:00-12:00. If you missed Picture Day back in October or just didn’t like how it turned out… Come to the gym and sign in on the clipboard and get in line. We need your full name and current grade so that you will be put on the correct grade page. Our photography teacher Mrs. Ying will have everything set up to take your pictures. All of the pictures taken will be used in our 2024 Yearbook. We want everyone in Yearbook so sign up now so you don’t forget!
URL:https://learningandfamilies.org/event/makeup-picture-day/
LOCATION:Renewal Church\, 7221 Bee Ridge Road\, Sarasota\, 34241\, United States
CATEGORIES:Co-op
END:VEVENT
BEGIN:VEVENT
DTSTART;TZID=UTC:20240123T090000
DTEND;TZID=UTC:20240123T150000
DTSTAMP:20260420T014712
CREATED:20231215T044931Z
LAST-MODIFIED:20231215T044931Z
UID:10294-1706000400-1706022000@learningandfamilies.org
SUMMARY:Spirit Week 80's Day
DESCRIPTION:Show your LAF spirit by dressing up in any 80’s inspired outfit! Think acid-washed jeans\, big hair\, bright neons\, scrunchies and more! Let’s see what you’ve got!
URL:https://learningandfamilies.org/event/spirit-week-80s-day/2024-01-23/
LOCATION:Renewal Church\, 7221 Bee Ridge Road\, Sarasota\, 34241\, United States
CATEGORIES:Co-op,Junior Co-op,Middle and High School Co-op
END:VEVENT
BEGIN:VEVENT
DTSTART;TZID=UTC:20240202T100000
DTEND;TZID=UTC:20240202T120000
DTSTAMP:20260420T014712
CREATED:20231228T045933Z
LAST-MODIFIED:20231228T045933Z
UID:10310-1706868000-1706875200@learningandfamilies.org
SUMMARY:DeSoto National Memorial Field Trip
DESCRIPTION:Come learn about the history of this beautiful park. Enjoy walking the scenic trails and learning about the nature of the area. We will even get to experience the Living History at Camp Uzita. We will spend some time listening to a park ranger and will get to see a firing of historical guns and bows.
URL:https://learningandfamilies.org/event/desoto-national-memorial-field-trip/
LOCATION:DeSoto National Memorial\, 8300 DeSoto Memorial HWY\, Bradenton\, FL\, 34209\, United States
CATEGORIES:Co-op,Field Trip,Junior Co-op,Middle and High School Co-op
END:VEVENT
BEGIN:VEVENT
DTSTART;TZID=UTC:20240209T130000
DTEND;TZID=UTC:20240209T150000
DTSTAMP:20260420T014712
CREATED:20231215T050519Z
LAST-MODIFIED:20231215T050519Z
UID:10298-1707483600-1707490800@learningandfamilies.org
SUMMARY:Valentine's Exchange Party
DESCRIPTION:Join us Friday\, February 9th at Rothenbach Park to celebrate Friendship and Valentine’s Day!! \nThis is for ALL ages! Preschool through High school. Meet at Rothenbach Park at 1:00 for some fun play time. The Actual Exchanging of Valentines will start right at 1:30 pm. Do not be late for the exchange or you will miss it! There are 2 playgrounds and lots of shaded trails for the kids to enjoy.
URL:https://learningandfamilies.org/event/valentines-exchange-party/
LOCATION:Rothenbach Park\, 8650 Bee Ridge Rd\, Sarasota\, FL\, 34241\, United States
CATEGORIES:Co-op,Junior Co-op,Middle and High School Co-op
END:VEVENT
BEGIN:VEVENT
DTSTART;TZID=UTC:20240220T090000
DTEND;TZID=UTC:20240220T123000
DTSTAMP:20260420T014712
CREATED:20240121T192732Z
LAST-MODIFIED:20240121T192732Z
UID:10336-1708419600-1708432200@learningandfamilies.org
SUMMARY:Spirit Week - Twin Day
DESCRIPTION:Come matching with any of your friends. Show your LAF spirit and “twin” with your friends\, parents or siblings!
URL:https://learningandfamilies.org/event/spirit-week-twin-day-2/2024-02-20/
LOCATION:Renewal Church\, 7221 Bee Ridge Road\, Sarasota\, 34241\, United States
CATEGORIES:Co-op
END:VEVENT
BEGIN:VEVENT
DTSTART;TZID=UTC:20240229T173000
DTEND;TZID=UTC:20240229T190000
DTSTAMP:20260420T014712
CREATED:20231206T080517Z
LAST-MODIFIED:20231207T185347Z
UID:10276-1709227800-1709233200@learningandfamilies.org
SUMMARY:Science Fair
DESCRIPTION:We are excited to announce that LAF will be hosting their annual Science Fair Showcase on Thursday\, February 29th. It’s the perfect way to celebrate Leap Day 2024! \nWe will be using the Scientific Method and the information must be presented on a tri-fold board that the student will create.\nAll entries will be judged by our very own LAF Science Teachers using a Scientific Method Rubric. The actual Rubric and all rules will be posted in the event.\nFor the Science Fair there will be a variety of prizes for the 1st\, 2nd and 3rd place winners in the different grade levels. Each student will receive a Certificate of Participation and a Chick Fil A gift card.
URL:https://learningandfamilies.org/event/science-fair/
LOCATION:Selby Library\, 1331 1st St.\, Sarasota\, FL\, 34236\, United States
CATEGORIES:Co-op
END:VEVENT
BEGIN:VEVENT
DTSTART;TZID=UTC:20240301T104500
DTEND;TZID=UTC:20240301T131500
DTSTAMP:20260420T014712
CREATED:20240131T011409Z
LAST-MODIFIED:20240131T011409Z
UID:10394-1709289900-1709298900@learningandfamilies.org
SUMMARY:Escape Rooms Unlocked Middle and High School Activity
DESCRIPTION:Middle and high schoolers\, come enjoy some fun at Escape Rooms Unlocked\, then join us for a pizza lunch at Donato’s afterwards!
URL:https://learningandfamilies.org/event/escape-rooms-unlocked-middle-and-high-school-activity/
LOCATION:Escape Rooms Unlocked\, 4930 Fruitville Rd\, Sarasota\, FL\, 34232\, United States
CATEGORIES:Middle and High School Co-op
END:VEVENT
BEGIN:VEVENT
DTSTART;TZID=UTC:20240305T130000
DTEND;TZID=UTC:20240305T144500
DTSTAMP:20260420T014712
CREATED:20240213T035511Z
LAST-MODIFIED:20240213T035511Z
UID:10447-1709643600-1709649900@learningandfamilies.org
SUMMARY:Egg Drop Challenge
DESCRIPTION:Don’t miss our annual Egg Drop Challenge! \nLAF students of ALL AGES are challenged to design a system to protect a raw egg from cracking or breaking from a high fall. You can use any materials that you like to protect your egg so it will SURVIVE the fall!\nThere will be a participation prize for all contestants and special prizes for most creative\, best design\, most unusual material used and many other categories!
URL:https://learningandfamilies.org/event/egg-drop-challenge/
LOCATION:Renewal Church\, 7221 Bee Ridge Road\, Sarasota\, 34241\, United States
CATEGORIES:Co-op,Junior Co-op,Middle and High School Co-op
END:VEVENT
END:VCALENDAR