BEGIN:VCALENDAR
VERSION:2.0
PRODID:-//Homeschooling - ECPv6.2.3//NONSGML v1.0//EN
CALSCALE:GREGORIAN
METHOD:PUBLISH
X-ORIGINAL-URL:https://learningandfamilies.org
X-WR-CALDESC:Events for Homeschooling
REFRESH-INTERVAL;VALUE=DURATION:PT1H
X-Robots-Tag:noindex
X-PUBLISHED-TTL:PT1H
BEGIN:VTIMEZONE
TZID:UTC
BEGIN:STANDARD
TZOFFSETFROM:+0000
TZOFFSETTO:+0000
TZNAME:UTC
DTSTART:20260101T000000
END:STANDARD
END:VTIMEZONE
BEGIN:VEVENT
DTSTART;TZID=UTC:20260122T091500
DTEND;TZID=UTC:20260122T111500
DTSTAMP:20260420T064438
CREATED:20251204T164949Z
LAST-MODIFIED:20251204T164949Z
UID:15709-1769073300-1769080500@learningandfamilies.org
SUMMARY:Yearbook Picture Retakes
DESCRIPTION: Picture Retakes\, Don’t Miss Out!Did you miss the two picture days this fall? No worries — Picture Retake Day is here!\n Thursday\, January 22nd 9:15–11:15 AM In the Gym at Co-op\nOur photography teacher\, Mr. Charles\, and his High School Photography class will be taking photos to be used in this year’s Yearbook. This is your chance to make sure you are included!Come by\, smile big\, and we’ll see you there! We want your picture in the Yearbook! 
URL:https://learningandfamilies.org/event/yearbook-picture-retakes/
LOCATION:Bethel Church\, 1805 30th Ave W\,\, FL\, Bradenton\, FL\, 34205\, United States
CATEGORIES:Co-op,Junior Co-op,Middle and High School Co-op
END:VEVENT
END:VCALENDAR