BEGIN:VCALENDAR
VERSION:2.0
PRODID:-//Homeschooling - ECPv6.2.3//NONSGML v1.0//EN
CALSCALE:GREGORIAN
METHOD:PUBLISH
X-WR-CALNAME:Homeschooling
X-ORIGINAL-URL:https://learningandfamilies.org
X-WR-CALDESC:Events for Homeschooling
REFRESH-INTERVAL;VALUE=DURATION:PT1H
X-Robots-Tag:noindex
X-PUBLISHED-TTL:PT1H
BEGIN:VTIMEZONE
TZID:UTC
BEGIN:STANDARD
TZOFFSETFROM:+0000
TZOFFSETTO:+0000
TZNAME:UTC
DTSTART:20250101T000000
END:STANDARD
END:VTIMEZONE
BEGIN:VEVENT
DTSTART;TZID=UTC:20251208T100000
DTEND;TZID=UTC:20251208T120000
DTSTAMP:20260420T082202
CREATED:20250930T183446Z
LAST-MODIFIED:20250930T183446Z
UID:15570-1765188000-1765195200@learningandfamilies.org
SUMMARY:Ice Skating with LAF
DESCRIPTION:❄️⛸️ Indoor Ice Skating! ⛸️❄️ \nGlide into the holiday spirit with festive fun for all ages!📅 Monday\, December 8th🕙 10:00 AM – 12:00 PM💲 $15.00 per skater  \nBring your family for a joyful morning on the ice 🎄✨
URL:https://learningandfamilies.org/event/ice-skating-with-laf/
LOCATION:Ellenton Ice and Sports Complex\, 5309 29th St E.\, Ellenton\, FL 34222\, FL\, 34222\, United States
CATEGORIES:Co-op,Field Trip,Junior Co-op,Middle and High School Co-op,Special Events
END:VEVENT
END:VCALENDAR