BEGIN:VCALENDAR
VERSION:2.0
PRODID:-//Homeschooling - ECPv6.2.3//NONSGML v1.0//EN
CALSCALE:GREGORIAN
METHOD:PUBLISH
X-WR-CALNAME:Homeschooling
X-ORIGINAL-URL:https://learningandfamilies.org
X-WR-CALDESC:Events for Homeschooling
REFRESH-INTERVAL;VALUE=DURATION:PT1H
X-Robots-Tag:noindex
X-PUBLISHED-TTL:PT1H
BEGIN:VTIMEZONE
TZID:UTC
BEGIN:STANDARD
TZOFFSETFROM:+0000
TZOFFSETTO:+0000
TZNAME:UTC
DTSTART:20250101T000000
END:STANDARD
END:VTIMEZONE
BEGIN:VEVENT
DTSTART;TZID=UTC:20250425T110000
DTEND;TZID=UTC:20250425T130000
DTSTAMP:20260421T044133
CREATED:20250225T015025Z
LAST-MODIFIED:20250225T015025Z
UID:12976-1745578800-1745586000@learningandfamilies.org
SUMMARY:2025 Kindergarten Graduation
DESCRIPTION:Looking for the cutest thing ever? Wait no longer\, come join us as we cheer on our Learning and Families Kindergarten Graduates. All are welcome\, invite as many families and friends as you want to attend. There will be plenty of room to seat everyone for the ceremony. We will have some snacks in honor of our Graduates.
URL:https://learningandfamilies.org/event/2025-kindergarten-graduation/
LOCATION:FL
CATEGORIES:Co-op
ATTACH;FMTTYPE=image/jpeg:https://learningandfamilies.org/wp-content/uploads/2025/02/2025-graduation.jpg
END:VEVENT
END:VCALENDAR