BEGIN:VCALENDAR
VERSION:2.0
PRODID:-//Homeschooling - ECPv6.2.3//NONSGML v1.0//EN
CALSCALE:GREGORIAN
METHOD:PUBLISH
X-ORIGINAL-URL:https://learningandfamilies.org
X-WR-CALDESC:Events for Homeschooling
REFRESH-INTERVAL;VALUE=DURATION:PT1H
X-Robots-Tag:noindex
X-PUBLISHED-TTL:PT1H
BEGIN:VTIMEZONE
TZID:UTC
BEGIN:STANDARD
TZOFFSETFROM:+0000
TZOFFSETTO:+0000
TZNAME:UTC
DTSTART:20240101T000000
END:STANDARD
END:VTIMEZONE
BEGIN:VEVENT
DTSTART;TZID=UTC:20241216T080000
DTEND;TZID=UTC:20250110T150000
DTSTAMP:20260421T073931
CREATED:20241022T171413Z
LAST-MODIFIED:20241022T172428Z
UID:12427-1734336000-1736521200@learningandfamilies.org
SUMMARY:Christmas Break
DESCRIPTION:Enjoy you family and friends over this joyous time of year.  Merry Christmas and Happy New Year \n“She will give birth to a son\, and will give him the name Jesus\, for he will save us from our sins.” \nMatthew 1:21
URL:https://learningandfamilies.org/event/christmas-break/
LOCATION:FL
CATEGORIES:Co-op
END:VEVENT
END:VCALENDAR