BEGIN:VCALENDAR
VERSION:2.0
PRODID:-//Homeschooling - ECPv6.2.3//NONSGML v1.0//EN
CALSCALE:GREGORIAN
METHOD:PUBLISH
X-WR-CALNAME:Homeschooling
X-ORIGINAL-URL:https://learningandfamilies.org
X-WR-CALDESC:Events for Homeschooling
REFRESH-INTERVAL;VALUE=DURATION:PT1H
X-Robots-Tag:noindex
X-PUBLISHED-TTL:PT1H
BEGIN:VTIMEZONE
TZID:UTC
BEGIN:STANDARD
TZOFFSETFROM:+0000
TZOFFSETTO:+0000
TZNAME:UTC
DTSTART:20240101T000000
END:STANDARD
END:VTIMEZONE
BEGIN:VEVENT
DTSTART;TZID=UTC:20241125T080000
DTEND;TZID=UTC:20241130T150000
DTSTAMP:20260423T131320
CREATED:20241022T170617Z
LAST-MODIFIED:20241022T173017Z
UID:12425-1732521600-1732978800@learningandfamilies.org
SUMMARY:Thanksgiving Break
DESCRIPTION:Enjoy your time with your family and friends. This week co-op is closed. \n“The one who offers thanksgiving as his sacrifice glorifies me\, to one who orders his way rightly I will show the salvation of God!” \nPsalm 50:23
URL:https://learningandfamilies.org/event/thanksgiving-break-3/
LOCATION:FL
CATEGORIES:Co-op
END:VEVENT
END:VCALENDAR