BEGIN:VCALENDAR
VERSION:2.0
PRODID:-//Homeschooling - ECPv6.2.3//NONSGML v1.0//EN
CALSCALE:GREGORIAN
METHOD:PUBLISH
X-ORIGINAL-URL:https://learningandfamilies.org
X-WR-CALDESC:Events for Homeschooling
REFRESH-INTERVAL;VALUE=DURATION:PT1H
X-Robots-Tag:noindex
X-PUBLISHED-TTL:PT1H
BEGIN:VTIMEZONE
TZID:UTC
BEGIN:STANDARD
TZOFFSETFROM:+0000
TZOFFSETTO:+0000
TZNAME:UTC
DTSTART:20240101T000000
END:STANDARD
END:VTIMEZONE
BEGIN:VEVENT
DTSTART;TZID=UTC:20241113T103000
DTEND;TZID=UTC:20241113T123000
DTSTAMP:20260425T134844
CREATED:20241022T163122Z
LAST-MODIFIED:20241022T164940Z
UID:12416-1731493800-1731501000@learningandfamilies.org
SUMMARY:West Manatee Fire & Rescue Station #2 Tour
DESCRIPTION:Come out and tour the fire and rescue station #2. You’ll meet some of the Firemen and tour the station.\nDate: Wednesday\, November 13\, 2024Time: 10:30 AMLocation: West Manatee Fire & Rescue #210350 Cortez Road West\, Bradenton FL 34210\nIf you could please list the attendee’s names and grades below in the link so we can inform the station prior to arrival.\nAll Participants must wear the LAF green field trip shirt.\nParents and Chaperones MUST be present the entire Field Trip. This is NOT a drop off.\nAll Sales Are Final- There are NO REFUNDS. Unless trip is canceled due to weather or not meeting the minimum number participants requirements.
URL:https://learningandfamilies.org/event/west-manatee-fire-rescue-station-2-tour/
LOCATION:FL
CATEGORIES:Co-op,Junior Co-op
END:VEVENT
END:VCALENDAR