BEGIN:VCALENDAR
VERSION:2.0
PRODID:-//Homeschooling - ECPv6.2.3//NONSGML v1.0//EN
CALSCALE:GREGORIAN
METHOD:PUBLISH
X-ORIGINAL-URL:https://learningandfamilies.org
X-WR-CALDESC:Events for Homeschooling
REFRESH-INTERVAL;VALUE=DURATION:PT1H
X-Robots-Tag:noindex
X-PUBLISHED-TTL:PT1H
BEGIN:VTIMEZONE
TZID:UTC
BEGIN:STANDARD
TZOFFSETFROM:+0000
TZOFFSETTO:+0000
TZNAME:UTC
DTSTART:20240101T000000
END:STANDARD
END:VTIMEZONE
BEGIN:VEVENT
DTSTART;TZID=UTC:20241104T093000
DTEND;TZID=UTC:20241104T120000
DTSTAMP:20260425T134703
CREATED:20241022T161423Z
LAST-MODIFIED:20241022T161423Z
UID:12404-1730712600-1730721600@learningandfamilies.org
SUMMARY:Florida Aquaruim
DESCRIPTION:Date: Monday\, November 4\, 2024Time: 10:00-12:00pmLocation: Florida Aquarium701 Channelside DriveTampa\, FL 33602Ticket Price: $15.00 per student $30.00 per adult and 3 and under free\nThis year our students are learning about sea creatures\, so you might have noticed we have really been trying to get as many field trips as possible that encourage learning about sea creatures.\nEveryone must be checked in together. So please arrive at the entrance no later than 9:45am. An employee of the Aquarium will check us all in together and go over rules then let us in. This is a self-guided field trip. Aquarium annual passes cannot be used. Families wishing to use passes should not sign up for the field trip. They can go on their own and meet us as these rates are heavily discounted. We all know that our children enjoy hanging with friends\, but we have to make sure that they are not roaming alone and always have a parent or chaperone with them at all times.Green LAF field trip Shirts are required for this trip with no exceptions.\nMake sure you allow yourself time for parking and walking to the entrance. Parking is available in the surface lot for $5 per hour or the garage across the street for $2 an hour.\nThe Aquarium has let us know we can pre order lunch or bring lunches. If we bring lunches\, we will have to collect all the lunches ahead of time to be placed in a cooler upfront and that will get once out scheduled lunch time. We cannot bring in individual food or order from the cafe at the time of the trip. Everything has to be pre-planned ahead of time.\nAll Participants must wear a LAF green field trip shirt.\nParent and Chaperones MUST be present the entire Field Trip. This is NOT a drop off.\nAll Sales Are Final- There are NO REFUNDS. Unless trip Canceled due to weather or not meeting the minimum number participants requirements.
URL:https://learningandfamilies.org/event/florida-aquaruim/
LOCATION:FL
CATEGORIES:Co-op
END:VEVENT
END:VCALENDAR