BEGIN:VCALENDAR
VERSION:2.0
PRODID:-//Homeschooling - ECPv6.2.3//NONSGML v1.0//EN
CALSCALE:GREGORIAN
METHOD:PUBLISH
X-WR-CALNAME:Homeschooling
X-ORIGINAL-URL:https://learningandfamilies.org
X-WR-CALDESC:Events for Homeschooling
REFRESH-INTERVAL;VALUE=DURATION:PT1H
X-Robots-Tag:noindex
X-PUBLISHED-TTL:PT1H
BEGIN:VTIMEZONE
TZID:UTC
BEGIN:STANDARD
TZOFFSETFROM:+0000
TZOFFSETTO:+0000
TZNAME:UTC
DTSTART:20250101T000000
END:STANDARD
END:VTIMEZONE
BEGIN:VEVENT
DTSTART;TZID=UTC:20250205T100000
DTEND;TZID=UTC:20250205T120000
DTSTAMP:20260421T014025
CREATED:20250114T183435Z
LAST-MODIFIED:20250114T183435Z
UID:12739-1738749600-1738756800@learningandfamilies.org
SUMMARY:Arts A Blaze Field Trip
DESCRIPTION:Let go get our creativity juices flowing. Join us at Arts A Blaze for a pick your own pottery to paint. Price will depend on what you pick to paint\, and you will pay in studio. We will need to keep a running total of all who are attending as space is limited. Please make sure you post how many will be painting.\nAll Participants must wear the LAF green field trip shirt.\nParents and Chaperones MUST be present the entire Field Trip. This is NOT a drop off.
URL:https://learningandfamilies.org/event/arts-a-blaze-field-trip/
LOCATION:Arts A Blaze Studio\, 8111 Lakewood Main St\, Ste 107\, Lakewood Ranch\, FL\, 34202\, United States
CATEGORIES:Co-op,Field Trip
END:VEVENT
BEGIN:VEVENT
DTSTART;TZID=UTC:20250212T100000
DTEND;TZID=UTC:20250212T120000
DTSTAMP:20260421T014025
CREATED:20250128T165126Z
LAST-MODIFIED:20250128T165350Z
UID:12832-1739354400-1739361600@learningandfamilies.org
SUMMARY:MS/HS -SCF Drones\, Coding\, and Spike Prime
DESCRIPTION:This is a wonderful opportunity for our Middle and High students to check out State College of Florida (SCF) and learn about Drones and Glowforge Keychains as well as take a personal tour of the Campus.Date: Wednesday\, Feb 12thTime: 10:00-12:00Location: SCF Bradenton – Building 8 -26 West Center- park in lot HCost: $10 per student – Must pay on the shop to hold spotAll students will learn to laser cut on the Glowforge machine and make a keychain.\nStudent Learning Objectives:1. Drone Operation Fundamentals Students will understand the basic principles of drone operation\, including controls\, safety protocols\, and flight maneuvers.2. Introduction to Laser Cutting Technology Understand how laser cutting works and the technology behind a Glowforge machine.3. Exploration of Technology Careers Students will gain insights into various technology and engineering careers\, including educational requirements and job responsibilities.4. Teamwork and Communication Enhancement Students will develop and practice effective teamwork and communication skills during group activities and discussions.5. Stimulating Interest in STEM Fields Students will foster a greater interest and curiosity in STEM fields through hands-on experiences with technology and engineering concepts.\n\nSign up with this linkhttps://learningandfamilies.org/…/ms-hs-drones…/
URL:https://learningandfamilies.org/event/12832/
LOCATION:FL
CATEGORIES:Middle and High School Co-op
END:VEVENT
BEGIN:VEVENT
DTSTART;TZID=UTC:20250212T100000
DTEND;TZID=UTC:20250212T130000
DTSTAMP:20260421T014025
CREATED:20250204T140249Z
LAST-MODIFIED:20250204T140249Z
UID:12854-1739354400-1739365200@learningandfamilies.org
SUMMARY:Children's Garden Meetup
DESCRIPTION:Hi everyone! I am going to host a play date/meet up for The Children’s Garden. This is not a field trip\, so it is not required to wear the field trip shirt. You will pay at the counter upon arrival. Here are the prices:\nAdults and Teens 13 years & up: $10 + taxSeniors 60+ years and Military: $9 + taxChildren 3 years & up: $6 + taxInfants and toddlers 2 & under visit for free!\nThe Childrens Garden & Art Center is a non-profit kid-focused greenspace that combines playground structures & plenty of places to explore in an outdoor setup. This is all outdoor so wear appropriate clothing per the weather.\nParking is across the street in a small fenced area under the trees. There is also parking along the road if needed.\nWe will be there from 10am-1pm. The address is 1670 10th Way\, Sarasota\, FL 34236\nThere are picnic tables on site\, so pack a lunch and come hang out while our kids explore and play!
URL:https://learningandfamilies.org/event/childrens-garden-meetup/
LOCATION:FL
CATEGORIES:Co-op
END:VEVENT
BEGIN:VEVENT
DTSTART;TZID=UTC:20250214T130000
DTEND;TZID=UTC:20250214T150000
DTSTAMP:20260421T014025
CREATED:20250114T190256Z
LAST-MODIFIED:20250114T190256Z
UID:12745-1739538000-1739545200@learningandfamilies.org
SUMMARY:Valentines Exchange
DESCRIPTION:
URL:https://learningandfamilies.org/event/valentines-exchange-2/
LOCATION:Colonial Oaks Park\, 5300 Colonial Oaks Blvd\, Sarasota\, FL\, 34232\, United States
CATEGORIES:Co-op
END:VEVENT
BEGIN:VEVENT
DTSTART;VALUE=DATE:20250218
DTEND;VALUE=DATE:20250219
DTSTAMP:20260421T014025
CREATED:20250114T191531Z
LAST-MODIFIED:20250114T191531Z
UID:12751-1739836800-1739923199@learningandfamilies.org
SUMMARY:Spirit Day
DESCRIPTION:You won’t want to miss this\, Spirit Day! Come dressed up in your favorite clothes from any past decade.
URL:https://learningandfamilies.org/event/spirit-day-2/
LOCATION:FL
CATEGORIES:Co-op
END:VEVENT
BEGIN:VEVENT
DTSTART;VALUE=DATE:20250220
DTEND;VALUE=DATE:20250221
DTSTAMP:20260421T014025
CREATED:20250114T191313Z
LAST-MODIFIED:20250114T191338Z
UID:12748-1740009600-1740095999@learningandfamilies.org
SUMMARY:Spirit Day
DESCRIPTION:You won’t want to miss this\, Spirit Day! Come dressed up in your favorite clothes from any past decade.
URL:https://learningandfamilies.org/event/spirit-day/
LOCATION:FL
CATEGORIES:Co-op
END:VEVENT
END:VCALENDAR