BEGIN:VCALENDAR
VERSION:2.0
PRODID:-//Homeschooling - ECPv6.2.3//NONSGML v1.0//EN
CALSCALE:GREGORIAN
METHOD:PUBLISH
X-WR-CALNAME:Homeschooling
X-ORIGINAL-URL:https://learningandfamilies.org
X-WR-CALDESC:Events for Homeschooling
REFRESH-INTERVAL;VALUE=DURATION:PT1H
X-Robots-Tag:noindex
X-PUBLISHED-TTL:PT1H
BEGIN:VTIMEZONE
TZID:UTC
BEGIN:STANDARD
TZOFFSETFROM:+0000
TZOFFSETTO:+0000
TZNAME:UTC
DTSTART:20240101T000000
END:STANDARD
END:VTIMEZONE
BEGIN:VEVENT
DTSTART;TZID=UTC:20241001T090000
DTEND;TZID=UTC:20241001T130000
DTSTAMP:20260425T133633
CREATED:20240917T181535Z
LAST-MODIFIED:20240917T181535Z
UID:12297-1727773200-1727787600@learningandfamilies.org
SUMMARY:School Picture Day
DESCRIPTION: Picture Day 2024!! Tuesday October 1st\, 9:00-1:00 in the gym at Co-opMark your calendars and get your smiles ready!! We want your picture in the Yearbook!!Picture day is open to ALL students registered in the LAF Support Community\, as well as Co-op Facilitators/Staff. As our community has grown exponentially\, we have limited time on Picture Day\, so we can no longer offer parent photos. But bring all your kiddos and get pictures done for the LAF Yearbook.***There is no fee for this. You will receive a free set of proofs\, and you are welcome to purchase picture packages if you would like. There is NO obligation to order pictures. When you arrive at Co-op head over to the gym and get in line. Lifetouch will have 2 photo booths set up and the line moves fast.If you are a Tuesday Co-op family come down to the gym during a break. If you are a Thursday Co-op family or a Support Community family come anytime from 9:00-1:00 and get in line.Watch for a detailed email! Can’t wait to see all those smiling faces!
URL:https://learningandfamilies.org/event/school-picture-day-2/
LOCATION:Renewal Church\, 7221 Bee Ridge Road\, Sarasota\, 34241\, United States
CATEGORIES:Co-op
END:VEVENT
BEGIN:VEVENT
DTSTART;TZID=UTC:20241002T170000
DTEND;TZID=UTC:20241002T190000
DTSTAMP:20260425T133633
CREATED:20240917T182700Z
LAST-MODIFIED:20240917T182700Z
UID:12299-1727888400-1727895600@learningandfamilies.org
SUMMARY:Teen Only- Ax Throwing
DESCRIPTION:Kick off the school year with LAF’s favorite Teen activity\, Ax Throwing at AXE & BULL Sarasota!\nHosted by Sarah Connell – Contact number 530-354-4853Date: Wednesday\, October 2ndTime: 5:00-7:00 pmLocation: Axe & Bull4088 Bee Ridge Road Sarasota\nWe did this activity the last few years and had a great turnout so it’s BACK by popular demand!\nFAQ from their website: https://axeandbull.com/faqs/\nPlease log on to their website to complete a waiver ahead of time.\nWhat to wear: Closed toe shoes and comfortable clothing\nCost: Pay when you get there\, book online for the time slot\, Groupon is available if you want to buy 4-6 tickets and split the cost with friends!Groupon Link: https://www.groupon.com/deals/axe-and-bull-1…\nWhat to bring: A snack or drink to share. There is a table to put everything on and the kids can snack when they take breaks.\nThis activity is for teens only – must be 13 years and older to participate. Parents can drop their students off or stay. There will be chaperones there. No younger siblings please
URL:https://learningandfamilies.org/event/teen-only-ax-throwing/
LOCATION:Axe & Bull\, 4088 Bee Ridge Road\, Sarasota\, FL\, 34233\, United States
CATEGORIES:Middle and High School Co-op
END:VEVENT
BEGIN:VEVENT
DTSTART;TZID=UTC:20241023T153000
DTEND;TZID=UTC:20241023T180000
DTSTAMP:20260425T133633
CREATED:20241022T154234Z
LAST-MODIFIED:20241022T154234Z
UID:12395-1729697400-1729706400@learningandfamilies.org
SUMMARY:Middle and High School Students!! Sky Zone Sarasota
DESCRIPTION:Calling all Middle and High school students!! Join us at Sky Zone Sarasota for Glow!\nDate: Wednesday\, October 23rdTime: 3:30 – 6:00 pmLocation: Sky Zone Sarasota6189 Edgelake Dr. Sarasota\nHosted by Sarah Connell – contact number 530-354-4852\nCost: $28 per person for 120 minutes of jumpingDetails: Check in is from 3:30-4:00 with jumping from 4-6.Each student must bring their own Sky Zone socks and wear a White or Neon Shirt for the Glow Zone experience! Socks can be purchased there and Neon shirts can be purchased for $9.\n\nMust have an updated waiver on fileMust Sign up and pay before October 20th to hold your spot\n\nPurchase your tickets on the Website Shophttps://learningandfamilies.org/…/middle-high-school…/
URL:https://learningandfamilies.org/event/middle-and-high-school-students-sky-zone-sarasota/
LOCATION:FL
CATEGORIES:Middle and High School Co-op
END:VEVENT
BEGIN:VEVENT
DTSTART;TZID=UTC:20241027T140000
DTEND;TZID=UTC:20241027T163000
DTSTAMP:20260425T133633
CREATED:20240917T185319Z
LAST-MODIFIED:20241022T155222Z
UID:12304-1730037600-1730046600@learningandfamilies.org
SUMMARY:High School Rock Climbing
DESCRIPTION:Calling all High school students looking for some adventure!Join us at Vertical Ventures in St. Pete for some climbing fun!Date: Friday\, October 11thTime: 2:00-4:30 pmLocation: Vertical Ventures116 18th Street South\, St. Petersburg FL 33712Contact: Moriah Herrygers – 941-400-9111\nPasses in groups of 5 or 10 can be purchased at a better rate. $17-18 ppLink for prices: https://verticalventures.com/prices/Middle school students may attend\, but a parent MUST be present.Parents are welcome to join in the fun.Students are advised to wear comfortable stretching clothes like leggings or sweatpants\, no jeans.Must fill out the waiver form the day before and bring a parent with their ID\, or a copy of parents ID/drivers license.Link for the Waiver: https://waiver.smartwaiver.com/w/610da6b53c6c0/web/Please comment in the thread with the names and grades of the students attending.
URL:https://learningandfamilies.org/event/high-school-rock-climbing/
LOCATION:Vertical Ventures St Pete\, 116 18Th St S.\, Saint Peterburg\, FL\, 33712\, United States
CATEGORIES:Middle and High School Co-op
END:VEVENT
BEGIN:VEVENT
DTSTART;TZID=UTC:20241031T130000
DTEND;TZID=UTC:20241031T141500
DTSTAMP:20260425T133633
CREATED:20241022T155604Z
LAST-MODIFIED:20241022T160131Z
UID:12399-1730379600-1730384100@learningandfamilies.org
SUMMARY:Fall Festival & Kids Craft Market
DESCRIPTION: It’s that time of year again!!! We are excited to be hosting LAF’s 1st Annual Fall Festival & Kids Craft Market (formerly Trunk or Treat) on Thursday\, October 31st from 1:00-2:15 pm at Co-op!! \n This will be our first Kids Craft Market at our Fall Festival. There is no fee to reserve a table\, but space is limited to only 12 tables so please contact Adri Bradshaw at adribradshaw1@gmail.com to hold your spot. In the email please list the young entrepreneurs name\, age\, product they want to sell and the price point. Adri will reply back with all of the details.\nWe are excited to announce that we will be serving snow cones again this year free of charge!  We also have an LAF dad coming to tie balloon animals and all kinds of fun balloon creations! There will be a special presentation by the Theatre Troupe class.\n All participants must be dressed in a costume. Some fun ideas are dressing up as a character from a book\, or your favorite Superhero! Please no scary costumes or scary masks! This is primarily for Jr. Co-op students; however Middle & High school students in costumes are welcome to participate as well. Middle & High school students that have a 1:00 class need to advise their teachers before attending the Trunk or Treat and must be wearing a non-scary costume to participate. Please note\, masks are allowed\, but absolutely no scary masks. Anyone wearing a scary mask will not be able to participate.** Please note\, the 1:00 Jr Jazz class and Kids Spanish class will be canceled so students can attend the Fall Festival. We will be holding the festivities on the east side (right side) of the building by the maintenance building. We will try to set up the booths and trunks in the shade. Each family is asked to donate a large bag of candy or non-candy items to be distributed between the Trunks. We need about 12 families to volunteer to decorate a Trunk and pass out candy. If you decorate a trunk you do NOT need to donate candy. If you sign up to decorate a trunk\, check out Pinterest for cool non-scary Trunk decoration ideas! THURSDAY Co-op families can pack their lunch or order pizza and eat immediately following dismissal at 12:30. TUESDAY Co-op families and Support Group families not decorating a trunk\, can come on the 31st at 12:50 to drop off their bag of candy at the front table and wait in the gym. Please park anywhere except in the sectioned off area by the maintenance building and come join in the fun. Please consider decorating a trunk since you do not have classes that day and can come early to park and decorate. It is a fun way to meet our Thursday Co-op families and is greatly appreciated!! Remember\, if you volunteer to decorate a trunk\, you do not have to bring a bag of candy. Please comment in the posts below with the names and grades of the participants – and if you are bringing a big bag of candy\, or if you are planning on decorating a trunk!!We are so excited to see everyone’s creative costumes! Let’s make our 1st Annual Fall Festival a huge success!
URL:https://learningandfamilies.org/event/fall-festival-kids-craft-market/
LOCATION:FL
CATEGORIES:Co-op
END:VEVENT
END:VCALENDAR