BEGIN:VCALENDAR
VERSION:2.0
PRODID:-//Homeschooling - ECPv6.2.3//NONSGML v1.0//EN
CALSCALE:GREGORIAN
METHOD:PUBLISH
X-ORIGINAL-URL:https://learningandfamilies.org
X-WR-CALDESC:Events for Homeschooling
REFRESH-INTERVAL;VALUE=DURATION:PT1H
X-Robots-Tag:noindex
X-PUBLISHED-TTL:PT1H
BEGIN:VTIMEZONE
TZID:UTC
BEGIN:STANDARD
TZOFFSETFROM:+0000
TZOFFSETTO:+0000
TZNAME:UTC
DTSTART:20250101T000000
END:STANDARD
END:VTIMEZONE
BEGIN:VEVENT
DTSTART;TZID=UTC:20250207T113000
DTEND;TZID=UTC:20250207T123000
DTSTAMP:20260421T040810
CREATED:20240916T171759Z
LAST-MODIFIED:20240916T171759Z
UID:12272-1738927800-1738931400@learningandfamilies.org
SUMMARY:"Aesop's Fables" Play at Florida Studio Theatre
DESCRIPTION:The classic tales of Aesop come to life on the FST stage! \nPlease note\, this show is only open to children ages five and up and parents. \nExperience the charm of Aesop’s Fables like never before in this lively two-actor production. Full of humor\, hijinks\, and timeless morals\, our talented duo brings Aesop’s classic tales to life with creativity and audience engagement. Join us for an unforgettable journey where every story teaches a valuable lesson. \nClick HERE to buy tickets. \n 
URL:https://learningandfamilies.org/event/aesops-fables-play-at-florida-studio-theatre/
LOCATION:Florida Studio Theatre\, 1241 N Palm Ave\, Sarasota\, FL\, 34236\, United States
CATEGORIES:Field Trip,Performances
END:VEVENT
END:VCALENDAR