BEGIN:VCALENDAR
VERSION:2.0
PRODID:-//Homeschooling - ECPv6.2.3//NONSGML v1.0//EN
CALSCALE:GREGORIAN
METHOD:PUBLISH
X-ORIGINAL-URL:https://learningandfamilies.org
X-WR-CALDESC:Events for Homeschooling
REFRESH-INTERVAL;VALUE=DURATION:PT1H
X-Robots-Tag:noindex
X-PUBLISHED-TTL:PT1H
BEGIN:VTIMEZONE
TZID:UTC
BEGIN:STANDARD
TZOFFSETFROM:+0000
TZOFFSETTO:+0000
TZNAME:UTC
DTSTART:20250101T000000
END:STANDARD
END:VTIMEZONE
BEGIN:VEVENT
DTSTART;TZID=UTC:20250110T100000
DTEND;TZID=UTC:20250110T120000
DTSTAMP:20260421T024627
CREATED:20241119T165033Z
LAST-MODIFIED:20250113T204952Z
UID:12592-1736503200-1736510400@learningandfamilies.org
SUMMARY:Ringling Museum of Art Guided Tour Field Trip-All Ages
DESCRIPTION:Date: Friday\, January 10\, 2025\nTime: 10:00\nLocation: 5401 Bayshore Rd. Sarasota\, FL 34242\nCost: $11.00 per adult\, child/ren are free.\nAnyone with a child under 5 that many need a stroller\, please note it after ticket bought as the museum does need to know. \nRingling Museum of Art Guided Tour- Adult Ticket – Homeschooling \n  \nDuring this field trip we will be visiting\, The Ringling Museum of Art\, Tibbals Learning Center\, Historic Circus Museum\, and the Gardens and Ca’d’Zan. Such great history to learn about. \nPlease remind your students\, as we had an influx of incidents last year\, that climbing on or sitting on the trees at The Ringling is forbidden. The Ringling Bayfront Gardens are a Level II Arboretum\, and care for our living collections just as we do our collection in the museum. \nAll Participants must wear the LAF green field trip shirt. \nParents and Chaperones MUST be present the entire Field Trip. This is NOT a drop off. \nAll Sales Are Final- There are NO REFUNDS. Unless the trip is canceled due to weather or not meeting the minimum number participants requirements.
URL:https://learningandfamilies.org/event/ringling-museum-of-art-guided-tour-field-trip-all-ages/
LOCATION:The John and Mable Ringling Museum of Art\, 5401 Bay Shore Rd\, Sarasota\, FL\, 34243\, United States
CATEGORIES:Co-op,Field Trip
END:VEVENT
END:VCALENDAR