BEGIN:VCALENDAR
VERSION:2.0
PRODID:-//Homeschooling - ECPv6.2.3//NONSGML v1.0//EN
CALSCALE:GREGORIAN
METHOD:PUBLISH
X-WR-CALNAME:Homeschooling
X-ORIGINAL-URL:https://learningandfamilies.org
X-WR-CALDESC:Events for Homeschooling
REFRESH-INTERVAL;VALUE=DURATION:PT1H
X-Robots-Tag:noindex
X-PUBLISHED-TTL:PT1H
BEGIN:VTIMEZONE
TZID:UTC
BEGIN:STANDARD
TZOFFSETFROM:+0000
TZOFFSETTO:+0000
TZNAME:UTC
DTSTART:20240101T000000
END:STANDARD
END:VTIMEZONE
BEGIN:VEVENT
DTSTART;TZID=UTC:20241213T100000
DTEND;TZID=UTC:20241213T120000
DTSTAMP:20260421T053408
CREATED:20241112T142401Z
LAST-MODIFIED:20241112T142401Z
UID:12546-1734084000-1734091200@learningandfamilies.org
SUMMARY:Ellenton Ice Skating Field Trip-All Ages
DESCRIPTION:
URL:https://learningandfamilies.org/event/ellenton-ice-skating-field-trip-all-ages/
LOCATION:Ellenton Ice and Sports Complex\, 5309 29th St E.\, Ellenton\, FL 34222\, FL\, 34222\, United States
CATEGORIES:Co-op,Field Trip
END:VEVENT
END:VCALENDAR