BEGIN:VCALENDAR
VERSION:2.0
PRODID:-//Homeschooling - ECPv6.2.3//NONSGML v1.0//EN
CALSCALE:GREGORIAN
METHOD:PUBLISH
X-ORIGINAL-URL:https://learningandfamilies.org
X-WR-CALDESC:Events for Homeschooling
REFRESH-INTERVAL;VALUE=DURATION:PT1H
X-Robots-Tag:noindex
X-PUBLISHED-TTL:PT1H
BEGIN:VTIMEZONE
TZID:UTC
BEGIN:STANDARD
TZOFFSETFROM:+0000
TZOFFSETTO:+0000
TZNAME:UTC
DTSTART:20240101T000000
END:STANDARD
END:VTIMEZONE
BEGIN:VEVENT
DTSTART;TZID=UTC:20241025T094500
DTEND;TZID=UTC:20241025T120000
DTSTAMP:20260425T134609
CREATED:20241022T155100Z
LAST-MODIFIED:20241022T155100Z
UID:12397-1729849500-1729857600@learningandfamilies.org
SUMMARY:Bishop Museum Guided Tour
DESCRIPTION:Come join us for fun learning all about Florida’s Natural History including the first people\, plants\, and animals all native to Florida. We will tour the most popular exhibitions\, visit the Parker Manatee Rehabilitation Habitat and take in a Planetarium show.\nDate: Friday\, October 25\, 2024Time: 9:45am-12pmLocation: 201 10th St West\, Bradenton\, FL 34205Price: $8.00 per student 3 and over$10.00 per adult\nParking can be tricky on the street\, but the city parking garage is by.\nAll Participates must wear the LAF green shirt.\nParent or Chaperone MUST be present the entire Field Trip. This is NOT a drop and go.\nAll Sales Are Final – There are NO REFUNDS. Unless trip is canceled due to weather or not meeting the minimum number participate requirements.
URL:https://learningandfamilies.org/event/bishop-museum-guided-tour/
LOCATION:FL
CATEGORIES:Field Trip
END:VEVENT
END:VCALENDAR