BEGIN:VCALENDAR
VERSION:2.0
PRODID:-//Homeschooling - ECPv6.2.3//NONSGML v1.0//EN
CALSCALE:GREGORIAN
METHOD:PUBLISH
X-WR-CALNAME:Homeschooling
X-ORIGINAL-URL:https://learningandfamilies.org
X-WR-CALDESC:Events for Homeschooling
REFRESH-INTERVAL;VALUE=DURATION:PT1H
X-Robots-Tag:noindex
X-PUBLISHED-TTL:PT1H
BEGIN:VTIMEZONE
TZID:UTC
BEGIN:STANDARD
TZOFFSETFROM:+0000
TZOFFSETTO:+0000
TZNAME:UTC
DTSTART:20240101T000000
END:STANDARD
END:VTIMEZONE
BEGIN:VEVENT
DTSTART;TZID=UTC:20241106T110000
DTEND;TZID=UTC:20241106T130000
DTSTAMP:20260421T053252
CREATED:20241022T161818Z
LAST-MODIFIED:20241022T165632Z
UID:12406-1730890800-1730898000@learningandfamilies.org
SUMMARY:Sarasota Fire Station #9 Tour
DESCRIPTION:Come out and meet our local Firemen and Tour Fire Station #9\nDate: Wednesday\, November 6\, 2024Time: 11:00 AMLocation: Fire Station #96750 Bee Ridge Road\, Sarasota\, FL 34241\nIf you could please list the attendee’s names and grades below in the link so we can inform the station prior to arrival.\nAll Participants must wear the LAF green field trip shirt.\nParents and Chaperones MUST be present the entire Field Trip. This is NOT a drop off.\nAll Sales Are Final- There are NO REFUNDS. Unless trip is canceled due to weather or not meeting the minimum number participants requirements.
URL:https://learningandfamilies.org/event/sarasota-fire-station-9-tour/
LOCATION:FL
CATEGORIES:Field Trip
END:VEVENT
BEGIN:VEVENT
DTSTART;TZID=UTC:20241120T100000
DTEND;TZID=UTC:20241120T113000
DTSTAMP:20260421T053252
CREATED:20241022T163817Z
LAST-MODIFIED:20241022T165427Z
UID:12418-1732096800-1732102200@learningandfamilies.org
SUMMARY:Marie Selby Botanical Gardens
DESCRIPTION:Date: Wednesday\, November 20\, 2024Time: 10:00-11:30AMLocation: Marie Selby Botanical Gardens1534 Mound Street\, Sarasota FL 34236\nMarie Selby’s Downtown Campus on Sarasota Bay is the only botanical garden in the world dedicated to the display and study of epiphytic orchids\, bromeliads\, gesneriads and ferns\, and other tropical plants. They have a significant focus on botany\, horticulture\, education\, historical preservation\, and the environment. We will get to learn first-hand from our guide all about the butterflies and caterpillars that depend on botanical plants to survive.\nCost: $13.00 for adult and child ticketschildren 4 and under free\nAll Participants must wear the LAF green field trip shirt.\nParents and Chaperones MUST be present the entire Field Trip. This is NOT a drop off.\nAll Sales Are Final- There are NO REFUNDS. Unless the trip is canceled due to weather or not meeting the minimum number participants requirements.
URL:https://learningandfamilies.org/event/marie-selby-botanical-gardens/
LOCATION:FL
CATEGORIES:Field Trip
END:VEVENT
BEGIN:VEVENT
DTSTART;TZID=UTC:20241122T100000
DTEND;TZID=UTC:20241122T120000
DTSTAMP:20260421T053252
CREATED:20240917T174758Z
LAST-MODIFIED:20241022T153134Z
UID:12291-1732269600-1732276800@learningandfamilies.org
SUMMARY:Glazer Children's Museum
DESCRIPTION:Cost $12.00 per child and $10.00 per adult. Glazer does not accept memberships or Play Day passes for field trips.\nAll families need to arrive 30 minutes prior to the field trip time to make sure everyone is present. Which will make our check in much faster and smoothly.\nThe Exhibit that will be happening during the time of out field trip is based on the children’s books series Ada Twist the Scientist by Andrea Beaty and the Netflix Series Ada Twist the Scientist.\nPlease keep in mind that parking is on a first-come\, first-served basis. Any parents or chaperones driving their own vehicles will be directed to nearby parking garages or lots. Please note that the parking garage is owned by the City of Tampa\, and they may close the garage or change rates without notifying the museum.\nAfter the field trip has ended you are able to head on over to Curtis Hixon Waterfront Park to have lunch. If multiple families are wanting to plan lunches at the park\, we will need to plan ahead so we can have one cooler for those lunches to be storage within the museum while on field trip. The museum does have a cafe also\, if any families will want to purchase from the cafe\, please note in the comments along with how many will be going. So\, I can notify them ahead of time to make sure they are prepared.\nAll participates Must wear green LAF shirts.\nParents or Chaperones MUST be present the entire Field Trip. Students cannot be dropped off.\nAll Sales are Final- There are NO REFUNDS. Unless trip is canceled due to weather or not meeting the minimum number participate requirements.
URL:https://learningandfamilies.org/event/glazer-childrens-museum/
LOCATION:Glazer Children’s Museum\, 110 W Gasparilla Plaza\, Tampa\, FL\, 33602\, United States
CATEGORIES:Field Trip,Junior Co-op
END:VEVENT
END:VCALENDAR