BEGIN:VCALENDAR
VERSION:2.0
PRODID:-//Homeschooling - ECPv6.2.3//NONSGML v1.0//EN
CALSCALE:GREGORIAN
METHOD:PUBLISH
X-WR-CALNAME:Homeschooling
X-ORIGINAL-URL:https://learningandfamilies.org
X-WR-CALDESC:Events for Homeschooling
REFRESH-INTERVAL;VALUE=DURATION:PT1H
X-Robots-Tag:noindex
X-PUBLISHED-TTL:PT1H
BEGIN:VTIMEZONE
TZID:UTC
BEGIN:STANDARD
TZOFFSETFROM:+0000
TZOFFSETTO:+0000
TZNAME:UTC
DTSTART:20240101T000000
END:STANDARD
END:VTIMEZONE
BEGIN:VEVENT
DTSTART;TZID=UTC:20240312T090000
DTEND;TZID=UTC:20240312T150000
DTSTAMP:20260422T171211
CREATED:20240131T013045Z
LAST-MODIFIED:20240131T013630Z
UID:10397-1710234000-1710255600@learningandfamilies.org
SUMMARY:Spring Break - No Classes
DESCRIPTION:Enjoy the time off! We’ll see you next week! \n\n\n	Related
URL:https://learningandfamilies.org/event/spring-break-no-classes/2024-03-12/
LOCATION:Renewal Church\, 7221 Bee Ridge Road\, Sarasota\, 34241\, United States
END:VEVENT
END:VCALENDAR