BEGIN:VCALENDAR
VERSION:2.0
PRODID:-//Homeschooling - ECPv6.2.3//NONSGML v1.0//EN
CALSCALE:GREGORIAN
METHOD:PUBLISH
X-ORIGINAL-URL:https://learningandfamilies.org
X-WR-CALDESC:Events for Homeschooling
REFRESH-INTERVAL;VALUE=DURATION:PT1H
X-Robots-Tag:noindex
X-PUBLISHED-TTL:PT1H
BEGIN:VTIMEZONE
TZID:UTC
BEGIN:STANDARD
TZOFFSETFROM:+0000
TZOFFSETTO:+0000
TZNAME:UTC
DTSTART:20230101T000000
END:STANDARD
END:VTIMEZONE
BEGIN:VEVENT
DTSTART;TZID=UTC:20231017T090000
DTEND;TZID=UTC:20231017T150000
DTSTAMP:20260424T032736
CREATED:20230915T161448Z
LAST-MODIFIED:20230915T161448Z
UID:9669-1697533200-1697554800@learningandfamilies.org
SUMMARY:Spirit Days - Sports Day
DESCRIPTION:Sports Day at Co-op! Come dressed in your favorite team jerseys\, college team shirts or ball caps. Or you could even wear your own team jersey! Have some fun and show your LAF Spirit! \n\n\n	Related
URL:https://learningandfamilies.org/event/spirit-days-sports-day/2023-10-17/
LOCATION:Renewal Church\, 7221 Bee Ridge Road\, Sarasota\, 34241\, United States
END:VEVENT
END:VCALENDAR