BEGIN:VCALENDAR
VERSION:2.0
PRODID:-//Homeschooling - ECPv6.2.3//NONSGML v1.0//EN
CALSCALE:GREGORIAN
METHOD:PUBLISH
X-ORIGINAL-URL:https://learningandfamilies.org
X-WR-CALDESC:Events for Homeschooling
REFRESH-INTERVAL;VALUE=DURATION:PT1H
X-Robots-Tag:noindex
X-PUBLISHED-TTL:PT1H
BEGIN:VTIMEZONE
TZID:UTC
BEGIN:STANDARD
TZOFFSETFROM:+0000
TZOFFSETTO:+0000
TZNAME:UTC
DTSTART:20240101T000000
END:STANDARD
END:VTIMEZONE
BEGIN:VEVENT
DTSTART;TZID=UTC:20240409T124500
DTEND;TZID=UTC:20240409T140000
DTSTAMP:20260422T113858
CREATED:20240218T003032Z
LAST-MODIFIED:20240218T003032Z
UID:10458-1712666700-1712671200@learningandfamilies.org
SUMMARY:Bible Bucks Store
DESCRIPTION:Come shop the Bible Bucks Store with all of your Bible Bucks you’ve been earning throughout the year! The shop will be set up on the west side of the back building\, under the trees. \n\n\n	Related
URL:https://learningandfamilies.org/event/bible-bucks-store-3/2024-04-09/
LOCATION:Renewal Church\, 7221 Bee Ridge Road\, Sarasota\, 34241\, United States
CATEGORIES:Junior Co-op
END:VEVENT
END:VCALENDAR